Workbook

Sheet Rekapitulace stavby
A1: Export VZ | D1: List obsahuje: | K1: 1) Rekapitulace stavby | W1: 2) Rekapitulace objektů stavby a soupisů prací | BA1: 3.0 | BT1: False | BU1: False | BV1: {f7b0ae17-1915-422c-ba3d-f1d4490fe0db}
AR2: >> skryté sloupce << | BS2: 0,01 | BT2: 21
BS3: 0,01 | BT3: 15
D4: REKAPITULACE STAVBY | AS4: v --- níže se nacházejí doplnkové a pomocné údaje k sestavám --- v | BE4: Návod na vyplnění | BS4: 0,001
D5: Kód: | K5: 400/15-1 | BE5: Měnit lze pouze buňky se žlutým podbarvením!_x000D_ _x000D_ 1) v Rekapitulaci stavby vyplňte údaje o Uchazeči (přenesou se do ostatních sestav i v jiných listech)_x000D_ _x000D_ 2) na vybraných listech vyplňte v sestavě Soupis prací ceny u položek_x000D_ _x000D_ Podrobnosti k vyplnění naleznete na poslední záložce s Pokyny pro vyplnění | BS5: 0,01
D6: Stavba: | K6: Oprava chodníku v ulici Přeloučská | BS6: 0,1
D7: KSO: | AK7: CC-CZ: | BS7: 1
D8: Místo: | AK8: Datum: | AN8: 21.06.2016 | BS8: 10
BS9: 100
D10: Zadavatel: | AK10: IČ: | BS10: 0,1
AK11: DIČ: | BS11: 0,1
BS12: 0,1
D13: Uchazeč: | AK13: IČ: | AN13: Vyplň údaj | BS13: 0,1
E14: Vyplň údaj | AK14: DIČ: | AN14: Vyplň údaj | BS14: 0,1
BS15: False
D16: Projektant: | AK16: IČ: | BS16: False
AK17: DIČ: | BS17: True
BS18: 0,01
D19: Poznámka: | BS19: 0,01
BS20: False
D23: Cena bez DPH | AK23: =ROUND(AG51,2) -> 0
L25: Sazba daně | W25: Základ daně | AK25: Výše daně
D26: DPH | F26: základní | L26: 0.21 | W26: =ROUND(AZ51,2) -> 0 | AK26: =ROUND(AV51,2) -> 0
F27: snížená | L27: 0.15 | W27: =ROUND(BA51,2) -> 0 | AK27: =ROUND(AW51,2) -> 0
F28: zákl. přenesená | L28: 0.21 | W28: =ROUND(BB51,2) -> 0 | AK28: 0
F29: sníž. přenesená | L29: 0.15 | W29: =ROUND(BC51,2) -> 0 | AK29: 0
F30: nulová | L30: 0 | W30: =ROUND(BD51,2) -> 0 | AK30: 0
D32: Cena s DPH | T32: v | X32: CZK | AK32: =SUM(AK23:AK30) -> 0
C39: REKAPITULACE OBJEKTŮ STAVBY A SOUPISŮ PRACÍ
C41: Kód: | L41: =K5 -> 400/15-1
C42: Stavba: | L42: =K6 -> Oprava chodníku v ulici Přeloučská
C44: Místo: | L44: =IF(K8="","",K8) | AI44: Datum: | AM44: =IF(AN8= "","",AN8) -> 21.06.2016
C46: Zadavatel: | L46: =IF(E11= "","",E11) | AI46: Projektant: | AM46: =IF(E17="","",E17) | AS46: Informatívní údaje z listů zakázek
C47: Uchazeč: | L47: =IF(E14= "Vyplň údaj","",E14)
C49: Kód | I49: Objekt, Soupis prací | AG49: Cena bez DPH [CZK] | AN49: Cena s DPH [CZK] | AQ49: Typ | AS49: z toho Ostat._x000D_ náklady [CZK] | AT49: DPH [CZK] | AU49: Normohodiny [h] | AV49: DPH základní [CZK] | AW49: DPH snížená [CZK] | AX49: DPH základní přenesená_x000D_ [CZK] | AY49: DPH snížená přenesená_x000D_ [CZK] | AZ49: Základna_x000D_ DPH základní | BA49: Základna_x000D_ DPH snížená | BB49: Základna_x000D_ DPH zákl. přenesená | BC49: Základna_x000D_ DPH sníž. přenesená | BD49: Základna_x000D_ DPH nulová
C51: Náklady stavby celkem | AG51: =ROUND(SUM(AG52:AG53),2) -> 0 | AN51: =SUM(AG51,AT51) -> 0 | AS51: =ROUND(SUM(AS52:AS53),2) -> 0 | AT51: =ROUND(SUM(AV51:AW51),2) -> 0 | AU51: =ROUND(SUM(AU52:AU53),5) -> 0 | AV51: =ROUND(AZ51*L26,2) -> 0 | AW51: =ROUND(BA51*L27,2) -> 0 | AX51: =ROUND(BB51*L26,2) -> 0 | AY51: =ROUND(BC51*L27,2) -> 0 | AZ51: =ROUND(SUM(AZ52:AZ53),2) -> 0 | BA51: =ROUND(SUM(BA52:BA53),2) -> 0 | BB51: =ROUND(SUM(BB52:BB53),2) -> 0 | BC51: =ROUND(SUM(BC52:BC53),2) -> 0 | BD51: =ROUND(SUM(BD52:BD53),2) -> 0 | BS51: D | BT51: 0 | BU51: ###NOIMPORT### | BV51: IMPORT | BW51: {f7b0ae17-1915-422c-ba3d-f1d4490fe0db} | BX51: {00000000-0000-0000-0000-000000000000}
A52: / | D52: 400/15-1-0 | J52: Vedlejší a ostatní rozpočtové náklady | AG52: ='400-15-1-0 - Vedlejší a o...'!J27 -> 0 | AN52: =SUM(AG52,AT52) -> 0 | AQ52: STA | AS52: 0 | AT52: =ROUND(SUM(AV52:AW52),2) -> 0 | AU52: ='400-15-1-0 - Vedlejší a o...'!P80 -> 0 | AV52: ='400-15-1-0 - Vedlejší a o...'!J30 -> 0 | AW52: ='400-15-1-0 - Vedlejší a o...'!J31 -> 0 | AX52: ='400-15-1-0 - Vedlejší a o...'!J32 -> 0 | AY52: ='400-15-1-0 - Vedlejší a o...'!J33 -> 0 | AZ52: ='400-15-1-0 - Vedlejší a o...'!F30 -> 0 | BA52: ='400-15-1-0 - Vedlejší a o...'!F31 -> 0 | BB52: ='400-15-1-0 - Vedlejší a o...'!F32 -> 0 | BC52: ='400-15-1-0 - Vedlejší a o...'!F33 -> 0 | BD52: ='400-15-1-0 - Vedlejší a o...'!F34 -> 0 | BT52: 1 | BV52: IMPORT | BW52: {3bf5029a-e4ab-4b5b-bce0-cc4385150eed} | BX52: {f7b0ae17-1915-422c-ba3d-f1d4490fe0db} | CM52: 2
A53: / | D53: 400/15-1-1 | J53: SO 101 Oprava chodníku | AG53: ='400-15-1-1 - SO 101 Oprav...'!J27 -> 0 | AN53: =SUM(AG53,AT53) -> 0 | AQ53: STA | AS53: 0 | AT53: =ROUND(SUM(AV53:AW53),2) -> 0 | AU53: ='400-15-1-1 - SO 101 Oprav...'!P82 -> 0 | AV53: ='400-15-1-1 - SO 101 Oprav...'!J30 -> 0 | AW53: ='400-15-1-1 - SO 101 Oprav...'!J31 -> 0 | AX53: ='400-15-1-1 - SO 101 Oprav...'!J32 -> 0 | AY53: ='400-15-1-1 - SO 101 Oprav...'!J33 -> 0 | AZ53: ='400-15-1-1 - SO 101 Oprav...'!F30 -> 0 | BA53: ='400-15-1-1 - SO 101 Oprav...'!F31 -> 0 | BB53: ='400-15-1-1 - SO 101 Oprav...'!F32 -> 0 | BC53: ='400-15-1-1 - SO 101 Oprav...'!F33 -> 0 | BD53: ='400-15-1-1 - SO 101 Oprav...'!F34 -> 0 | BT53: 1 | BV53: IMPORT | BW53: {553aef3c-424b-401c-bb4c-06c2b60bd366} | BX53: {f7b0ae17-1915-422c-ba3d-f1d4490fe0db} | CM53: 2

Sheet 400-15-1-0 - Vedlejší a o...
D1: List obsahuje: | F1: 1) Krycí list soupisu | G1: 2) Rekapitulace | J1: 3) Soupis prací | K1: Zpět na list: | L1: Rekapitulace stavby
L2: >> skryté sloupce << | AT2: {3bf5029a-e4ab-4b5b-bce0-cc4385150eed}
AT3: 2
D4: KRYCÍ LIST SOUPISU | M4: v --- níže se nacházejí doplnkové a pomocné údaje k sestavám --- v | AT4: False
D6: Stavba:
E7: ='Rekapitulace stavby'!K6 -> Oprava chodníku v ulici Přeloučská
D8: Objekt:
E9: 400/15-1-0 - Vedlejší a ostatní rozpočtové náklady
D11: KSO: | I11: CC-CZ:
D12: Místo: | I12: Datum: | J12: ='Rekapitulace stavby'!AN8 -> 21.06.2016
D14: Zadavatel: | I14: IČ: | J14: =IF('Rekapitulace stavby'!AN10="","",'Rekapitulace stavby'!AN10)
E15: =IF('Rekapitulace stavby'!E11="","",'Rekapitulace stavby'!E11) | I15: DIČ: | J15: =IF('Rekapitulace stavby'!AN11="","",'Rekapitulace stavby'!AN11)
D17: Uchazeč: | I17: IČ: | J17: =IF('Rekapitulace stavby'!AN13="Vyplň údaj","",IF('Rekapitulace stavby'!AN13="","",'Rekapitulace stavby'!AN13))
E18: =IF('Rekapitulace stavby'!E14="Vyplň údaj","",IF('Rekapitulace stavby'!E14="","",'Rekapitulace stavby'!E14)) | I18: DIČ: | J18: =IF('Rekapitulace stavby'!AN14="Vyplň údaj","",IF('Rekapitulace stavby'!AN14="","",'Rekapitulace stavby'!AN14))
D20: Projektant: | I20: IČ: | J20: =IF('Rekapitulace stavby'!AN16="","",'Rekapitulace stavby'!AN16)
E21: =IF('Rekapitulace stavby'!E17="","",'Rekapitulace stavby'!E17) | I21: DIČ: | J21: =IF('Rekapitulace stavby'!AN17="","",'Rekapitulace stavby'!AN17)
D23: Poznámka:
D27: Cena bez DPH | J27: =ROUND(J80,2) -> 0
F29: Základ daně | I29: Sazba daně | J29: Výše daně
D30: DPH | E30: základní | F30: =ROUND(SUM(BE80:BE91), 2) -> 0 | I30: 0.21 | J30: =ROUND(ROUND((SUM(BE80:BE91)), 2)*I30, 2) -> 0
E31: snížená | F31: =ROUND(SUM(BF80:BF91), 2) -> 0 | I31: 0.15 | J31: =ROUND(ROUND((SUM(BF80:BF91)), 2)*I31, 2) -> 0
E32: zákl. přenesená | F32: =ROUND(SUM(BG80:BG91), 2) -> 0 | I32: 0.21 | J32: 0
E33: sníž. přenesená | F33: =ROUND(SUM(BH80:BH91), 2) -> 0 | I33: 0.15 | J33: 0
E34: nulová | F34: =ROUND(SUM(BI80:BI91), 2) -> 0 | I34: 0 | J34: 0
D36: Cena s DPH | G36: v | H36: CZK | J36: =SUM(J27:J34) -> 0
C42: REKAPITULACE ČLENĚNÍ SOUPISU PRACÍ
C44: Stavba:
E45: =E7 -> Oprava chodníku v ulici Přeloučská
C46: Objekt:
E47: =E9 -> 400/15-1-0 - Vedlejší a ostatní rozpočtové náklady
C49: Místo: | F49: =F12 | I49: Datum: | J49: =IF(J12="","",J12) -> 21.06.2016
C51: Zadavatel: | F51: =E15 | I51: Projektant: | J51: =E21
C52: Uchazeč: | F52: =IF(E18="","",E18)
C54: Kód dílu - Popis | J54: Cena celkem [CZK]
C56: Náklady soupisu celkem | J56: =J80 -> 0 | AU56: -1
D57: VRN - Vedlejší rozpočtové náklady | J57: =J81 -> 0
D58: VRN1 - Průzkumné, geodetické a projektové práce | J58: =J82 -> 0
D59: VRN3 - Zařízení staveniště | J59: =J84 -> 0
D60: VRN4 - Inženýrská činnost | J60: =J88 -> 0
C67: SOUPIS PRACÍ
C69: Stavba:
E70: =E7 -> Oprava chodníku v ulici Přeloučská
C71: Objekt:
E72: =E9 -> 400/15-1-0 - Vedlejší a ostatní rozpočtové náklady
C74: Místo: | F74: =F12 | I74: Datum: | J74: =IF(J12="","",J12) -> 21.06.2016
C76: Zadavatel: | F76: =E15 | I76: Projektant: | J76: =E21
C77: Uchazeč: | F77: =IF(E18="","",E18)
C79: PČ | D79: Typ | E79: Kód | F79: Popis | G79: MJ | H79: Množství | I79: J.cena [CZK] | J79: Cena celkem [CZK] | K79: Cenová soustava | M79: Poznámka | N79: DPH | O79: J. Nh [h] | P79: Nh celkem [h] | Q79: J. hmotnost_x000D_ [t] | R79: Hmotnost_x000D_ celkem [t] | S79: J. suť [t] | T79: Suť Celkem [t]
C80: Náklady soupisu celkem | J80: =BK80 -> 0 | P80: =P81 -> 0 | R80: =R81 -> 0 | T80: =T81 -> 0 | AT80: D | AU80: -1 | BK80: =BK81 -> 0
D81: D | E81: VRN | F81: Vedlejší rozpočtové náklady | J81: =BK81 -> 0 | P81: =P82+P84+P88 -> 0 | R81: =R82+R84+R88 -> 0 | T81: =T82+T84+T88 -> 0 | AR81: 5 | AT81: D | AU81: 0 | AY81: ROZPOCET | BK81: =BK82+BK84+BK88 -> 0
D82: D | E82: VRN1 | F82: Průzkumné, geodetické a projektové práce | J82: =BK82 -> 0 | P82: =P83 -> 0 | R82: =R83 -> 0 | T82: =T83 -> 0 | AR82: 5 | AT82: D | AU82: 1 | AY82: ROZPOCET | BK82: =BK83 -> 0
C83: 1 | D83: K | E83: 012002000 | F83: Vytyčení stavby | G83: soubor | H83: 1 | J83: =ROUND(I83*H83,2) -> 0 | K83: CS ÚRS 2016 02 | N83: základní | P83: =O83*H83 -> 0 | Q83: 0 | R83: =Q83*H83 -> 0 | S83: 0 | T83: =S83*H83 -> 0 | AR83: 1024 | AT83: K | AU83: 2 | AY83: ROZPOCET | BE83: =IF(N83="základní",J83,0) -> 0 | BF83: =IF(N83="snížená",J83,0) -> 0 | BG83: =IF(N83="zákl. přenesená",J83,0) -> 0 | BH83: =IF(N83="sníž. přenesená",J83,0) -> 0 | BI83: =IF(N83="nulová",J83,0) -> 0 | BJ83: 1 | BK83: =ROUND(I83*H83,2) -> 0 | BL83: 1024 | BM83: 1684542243
D84: D | E84: VRN3 | F84: Zařízení staveniště | J84: =BK84 -> 0 | P84: =SUM(P85:P87) -> 0 | R84: =SUM(R85:R87) -> 0 | T84: =SUM(T85:T87) -> 0 | AR84: 5 | AT84: D | AU84: 1 | AY84: ROZPOCET | BK84: =SUM(BK85:BK87) -> 0
C85: 2 | D85: K | E85: 030001000 | F85: zařízení staveniště | G85: soubor | H85: 1 | J85: =ROUND(I85*H85,2) -> 0 | K85: CS ÚRS 2016 02 | N85: základní | P85: =O85*H85 -> 0 | Q85: 0 | R85: =Q85*H85 -> 0 | S85: 0 | T85: =S85*H85 -> 0 | AR85: 1024 | AT85: K | AU85: 2 | AY85: ROZPOCET | BE85: =IF(N85="základní",J85,0) -> 0 | BF85: =IF(N85="snížená",J85,0) -> 0 | BG85: =IF(N85="zákl. přenesená",J85,0) -> 0 | BH85: =IF(N85="sníž. přenesená",J85,0) -> 0 | BI85: =IF(N85="nulová",J85,0) -> 0 | BJ85: 1 | BK85: =ROUND(I85*H85,2) -> 0 | BL85: 1024 | BM85: -203363228
C86: 3 | D86: K | E86: R6 | F86: DIO | G86: soubor | H86: 1 | J86: =ROUND(I86*H86,2) -> 0 | K86: CS ÚRS 2016 02 | N86: základní | P86: =O86*H86 -> 0 | Q86: 0 | R86: =Q86*H86 -> 0 | S86: 0 | T86: =S86*H86 -> 0 | AR86: 1024 | AT86: K | AU86: 2 | AY86: ROZPOCET | BE86: =IF(N86="základní",J86,0) -> 0 | BF86: =IF(N86="snížená",J86,0) -> 0 | BG86: =IF(N86="zákl. přenesená",J86,0) -> 0 | BH86: =IF(N86="sníž. přenesená",J86,0) -> 0 | BI86: =IF(N86="nulová",J86,0) -> 0 | BJ86: 1 | BK86: =ROUND(I86*H86,2) -> 0 | BL86: 1024 | BM86: 227329019
D87: P | F87: Poznámka k položce: Montáž a demontáž dočasných dopravních značek a jejich nájem | AT87: P | AU87: 2
D88: D | E88: VRN4 | F88: Inženýrská činnost | J88: =BK88 -> 0 | P88: =SUM(P89:P91) -> 0 | R88: =SUM(R89:R91) -> 0 | T88: =SUM(T89:T91) -> 0 | AR88: 5 | AT88: D | AU88: 1 | AY88: ROZPOCET | BK88: =SUM(BK89:BK91) -> 0
C89: 4 | D89: K | E89: 012303000 | F89: zaměření skutečného provedení stavby | G89: soubor | H89: 1 | J89: =ROUND(I89*H89,2) -> 0 | K89: CS ÚRS 2016 02 | N89: základní | P89: =O89*H89 -> 0 | Q89: 0 | R89: =Q89*H89 -> 0 | S89: 0 | T89: =S89*H89 -> 0 | AR89: 1024 | AT89: K | AU89: 2 | AY89: ROZPOCET | BE89: =IF(N89="základní",J89,0) -> 0 | BF89: =IF(N89="snížená",J89,0) -> 0 | BG89: =IF(N89="zákl. přenesená",J89,0) -> 0 | BH89: =IF(N89="sníž. přenesená",J89,0) -> 0 | BI89: =IF(N89="nulová",J89,0) -> 0 | BJ89: 1 | BK89: =ROUND(I89*H89,2) -> 0 | BL89: 1024 | BM89: -1608608972
C90: 5 | D90: K | E90: 013254000 | F90: Dokumentace skutečného provedení stavby | G90: paré | H90: 4 | J90: =ROUND(I90*H90,2) -> 0 | K90: CS ÚRS 2016 02 | N90: základní | P90: =O90*H90 -> 0 | Q90: 0 | R90: =Q90*H90 -> 0 | S90: 0 | T90: =S90*H90 -> 0 | AR90: 1024 | AT90: K | AU90: 2 | AY90: ROZPOCET | BE90: =IF(N90="základní",J90,0) -> 0 | BF90: =IF(N90="snížená",J90,0) -> 0 | BG90: =IF(N90="zákl. přenesená",J90,0) -> 0 | BH90: =IF(N90="sníž. přenesená",J90,0) -> 0 | BI90: =IF(N90="nulová",J90,0) -> 0 | BJ90: 1 | BK90: =ROUND(I90*H90,2) -> 0 | BL90: 1024 | BM90: 1751727421
C91: 6 | D91: K | E91: 043002000 | F91: hutnící zkoušky | G91: ks | H91: 2 | J91: =ROUND(I91*H91,2) -> 0 | K91: CS ÚRS 2016 02 | N91: základní | P91: =O91*H91 -> 0 | Q91: 0 | R91: =Q91*H91 -> 0 | S91: 0 | T91: =S91*H91 -> 0 | AR91: 1024 | AT91: K | AU91: 2 | AY91: ROZPOCET | BE91: =IF(N91="základní",J91,0) -> 0 | BF91: =IF(N91="snížená",J91,0) -> 0 | BG91: =IF(N91="zákl. přenesená",J91,0) -> 0 | BH91: =IF(N91="sníž. přenesená",J91,0) -> 0 | BI91: =IF(N91="nulová",J91,0) -> 0 | BJ91: 1 | BK91: =ROUND(I91*H91,2) -> 0 | BL91: 1024 | BM91: 1175674888

Sheet 400-15-1-1 - SO 101 Oprav...
D1: List obsahuje: | F1: 1) Krycí list soupisu | G1: 2) Rekapitulace | J1: 3) Soupis prací | K1: Zpět na list: | L1: Rekapitulace stavby
L2: >> skryté sloupce << | AT2: {553aef3c-424b-401c-bb4c-06c2b60bd366}
AT3: 2
D4: KRYCÍ LIST SOUPISU | M4: v --- níže se nacházejí doplnkové a pomocné údaje k sestavám --- v | AT4: False
D6: Stavba:
E7: ='Rekapitulace stavby'!K6 -> Oprava chodníku v ulici Přeloučská
D8: Objekt:
E9: 400/15-1-1 - SO 101 Oprava chodníku
D11: KSO: | I11: CC-CZ:
D12: Místo: | I12: Datum: | J12: ='Rekapitulace stavby'!AN8 -> 21.06.2016
D14: Zadavatel: | I14: IČ: | J14: =IF('Rekapitulace stavby'!AN10="","",'Rekapitulace stavby'!AN10)
E15: =IF('Rekapitulace stavby'!E11="","",'Rekapitulace stavby'!E11) | I15: DIČ: | J15: =IF('Rekapitulace stavby'!AN11="","",'Rekapitulace stavby'!AN11)
D17: Uchazeč: | I17: IČ: | J17: =IF('Rekapitulace stavby'!AN13="Vyplň údaj","",IF('Rekapitulace stavby'!AN13="","",'Rekapitulace stavby'!AN13))
E18: =IF('Rekapitulace stavby'!E14="Vyplň údaj","",IF('Rekapitulace stavby'!E14="","",'Rekapitulace stavby'!E14)) | I18: DIČ: | J18: =IF('Rekapitulace stavby'!AN14="Vyplň údaj","",IF('Rekapitulace stavby'!AN14="","",'Rekapitulace stavby'!AN14))
D20: Projektant: | I20: IČ: | J20: =IF('Rekapitulace stavby'!AN16="","",'Rekapitulace stavby'!AN16)
E21: =IF('Rekapitulace stavby'!E17="","",'Rekapitulace stavby'!E17) | I21: DIČ: | J21: =IF('Rekapitulace stavby'!AN17="","",'Rekapitulace stavby'!AN17)
D23: Poznámka:
D27: Cena bez DPH | J27: =ROUND(J82,2) -> 0
F29: Základ daně | I29: Sazba daně | J29: Výše daně
D30: DPH | E30: základní | F30: =ROUND(SUM(BE82:BE167), 2) -> 0 | I30: 0.21 | J30: =ROUND(ROUND((SUM(BE82:BE167)), 2)*I30, 2) -> 0
E31: snížená | F31: =ROUND(SUM(BF82:BF167), 2) -> 0 | I31: 0.15 | J31: =ROUND(ROUND((SUM(BF82:BF167)), 2)*I31, 2) -> 0
E32: zákl. přenesená | F32: =ROUND(SUM(BG82:BG167), 2) -> 0 | I32: 0.21 | J32: 0
E33: sníž. přenesená | F33: =ROUND(SUM(BH82:BH167), 2) -> 0 | I33: 0.15 | J33: 0
E34: nulová | F34: =ROUND(SUM(BI82:BI167), 2) -> 0 | I34: 0 | J34: 0
D36: Cena s DPH | G36: v | H36: CZK | J36: =SUM(J27:J34) -> 0
C42: REKAPITULACE ČLENĚNÍ SOUPISU PRACÍ
C44: Stavba:
E45: =E7 -> Oprava chodníku v ulici Přeloučská
C46: Objekt:
E47: =E9 -> 400/15-1-1 - SO 101 Oprava chodníku
C49: Místo: | F49: =F12 | I49: Datum: | J49: =IF(J12="","",J12) -> 21.06.2016
C51: Zadavatel: | F51: =E15 | I51: Projektant: | J51: =E21
C52: Uchazeč: | F52: =IF(E18="","",E18)
C54: Kód dílu - Popis | J54: Cena celkem [CZK]
C56: Náklady soupisu celkem | J56: =J82 -> 0 | AU56: -1
D57: HSV - Práce a dodávky HSV | J57: =J83 -> 0
D58: 1 - Zemní práce | J58: =J84 -> 0
D59: 5 - Komunikace | J59: =J104 -> 0
D60: 9 - Ostatní konstrukce a práce, bourání | J60: =J129 -> 0
D61: 997 - Přesun sutě | J61: =J144 -> 0
D62: 998 - Přesun hmot | J62: =J166 -> 0
C69: SOUPIS PRACÍ
C71: Stavba:
E72: =E7 -> Oprava chodníku v ulici Přeloučská
C73: Objekt:
E74: =E9 -> 400/15-1-1 - SO 101 Oprava chodníku
C76: Místo: | F76: =F12 | I76: Datum: | J76: =IF(J12="","",J12) -> 21.06.2016
C78: Zadavatel: | F78: =E15 | I78: Projektant: | J78: =E21
C79: Uchazeč: | F79: =IF(E18="","",E18)
C81: PČ | D81: Typ | E81: Kód | F81: Popis | G81: MJ | H81: Množství | I81: J.cena [CZK] | J81: Cena celkem [CZK] | K81: Cenová soustava | M81: Poznámka | N81: DPH | O81: J. Nh [h] | P81: Nh celkem [h] | Q81: J. hmotnost_x000D_ [t] | R81: Hmotnost_x000D_ celkem [t] | S81: J. suť [t] | T81: Suť Celkem [t]
C82: Náklady soupisu celkem | J82: =BK82 -> 0 | P82: =P83 -> 0 | R82: =R83 -> 143.02716 | T82: =T83 -> 129.6324 | AT82: D | AU82: -1 | BK82: =BK83 -> 0
D83: D | E83: HSV | F83: Práce a dodávky HSV | J83: =BK83 -> 0 | P83: =P84+P104+P129+P144+P166 -> 0 | R83: =R84+R104+R129+R144+R166 -> 143.02716 | T83: =T84+T104+T129+T144+T166 -> 129.6324 | AR83: 1 | AT83: D | AU83: 0 | AY83: ROZPOCET | BK83: =BK84+BK104+BK129+BK144+BK166 -> 0
D84: D | E84: 1 | F84: Zemní práce | J84: =BK84 -> 0 | P84: =SUM(P85:P103) -> 0 | R84: =SUM(R85:R103) -> 0 | T84: =SUM(T85:T103) -> 129.6244 | AR84: 1 | AT84: D | AU84: 1 | AY84: ROZPOCET | BK84: =SUM(BK85:BK103) -> 0
C85: 1 | D85: K | E85: 113106121 | F85: Rozebrání dlažeb a dílců komunikací pro pěší, vozovek a ploch s přemístěním hmot na skládku na vzdálenost do 3 m nebo s naložením na dopravní prostředek komunikací pro pěší s ložem z kameniva nebo živice a s výplní spár z betonových nebo kameninových dlaždic, desek nebo tvarovek | G85: m2 | H85: 146 | J85: =ROUND(I85*H85,2) -> 0 | K85: CS ÚRS 2016 02 | N85: základní | P85: =O85*H85 -> 0 | Q85: 0 | R85: =Q85*H85 -> 0 | S85: 0.255 | T85: =S85*H85 -> 37.23 | AR85: 4 | AT85: K | AU85: 2 | AY85: ROZPOCET | BE85: =IF(N85="základní",J85,0) -> 0 | BF85: =IF(N85="snížená",J85,0) -> 0 | BG85: =IF(N85="zákl. přenesená",J85,0) -> 0 | BH85: =IF(N85="sníž. přenesená",J85,0) -> 0 | BI85: =IF(N85="nulová",J85,0) -> 0 | BJ85: 1 | BK85: =ROUND(I85*H85,2) -> 0 | BL85: 4 | BM85: -602015603
D86: P | F86: Poznámka k položce: odstranění stávající betonové dlažby | AT86: P | AU86: 2
D87: VV | F87: 146 | H87: 146 | AT87: VV | AU87: 2 | AV87: 2 | AW87: True | AX87: 1 | AY87: ROZPOCET
D88: VV | F88: změřeno funkcí měření ploch v elektronické verzi PD | AT88: VV | AU88: 2 | AV88: 1 | AW88: True | AX88: 0 | AY88: ROZPOCET
C89: 2 | D89: K | E89: 113107141 | F89: Odstranění podkladů nebo krytů s přemístěním hmot na skládku na vzdálenost do 3 m nebo s naložením na dopravní prostředek v ploše jednotlivě do 50 m2 živičných, o tl. vrstvy do 50 mm | G89: m2 | H89: 39.3 | J89: =ROUND(I89*H89,2) -> 0 | K89: CS ÚRS 2016 02 | N89: základní | P89: =O89*H89 -> 0 | Q89: 0 | R89: =Q89*H89 -> 0 | S89: 0.098 | T89: =S89*H89 -> 3.8514 | AR89: 4 | AT89: K | AU89: 2 | AY89: ROZPOCET | BE89: =IF(N89="základní",J89,0) -> 0 | BF89: =IF(N89="snížená",J89,0) -> 0 | BG89: =IF(N89="zákl. přenesená",J89,0) -> 0 | BH89: =IF(N89="sníž. přenesená",J89,0) -> 0 | BI89: =IF(N89="nulová",J89,0) -> 0 | BJ89: 1 | BK89: =ROUND(I89*H89,2) -> 0 | BL89: 4 | BM89: 697128130
D90: P | F90: Poznámka k položce: odstranění povrchů ve vjezdech | AT90: P | AU90: 2
D91: VV | F91: 39,3 | H91: 39.3 | AT91: VV | AU91: 2 | AV91: 2 | AW91: True | AX91: 1 | AY91: ROZPOCET
D92: VV | F92: změřeno funkcí měření ploch v elektronické verzi PD | AT92: VV | AU92: 2 | AV92: 1 | AW92: True | AX92: 0 | AY92: ROZPOCET
C93: 3 | D93: K | E93: 113107162 | F93: Odstranění podkladů nebo krytů s přemístěním hmot na skládku na vzdálenost do 20 m nebo s naložením na dopravní prostředek v ploše jednotlivě přes 50 m2 do 200 m2 z kameniva hrubého drceného, o tl. vrstvy přes 100 do 200 mm | G93: m2 | H93: 185.3 | J93: =ROUND(I93*H93,2) -> 0 | K93: CS ÚRS 2016 02 | N93: základní | P93: =O93*H93 -> 0 | Q93: 0 | R93: =Q93*H93 -> 0 | S93: 0.235 | T93: =S93*H93 -> 43.5455 | AR93: 4 | AT93: K | AU93: 2 | AY93: ROZPOCET | BE93: =IF(N93="základní",J93,0) -> 0 | BF93: =IF(N93="snížená",J93,0) -> 0 | BG93: =IF(N93="zákl. přenesená",J93,0) -> 0 | BH93: =IF(N93="sníž. přenesená",J93,0) -> 0 | BI93: =IF(N93="nulová",J93,0) -> 0 | BJ93: 1 | BK93: =ROUND(I93*H93,2) -> 0 | BL93: 4 | BM93: 1296069720
D94: P | F94: Poznámka k položce: odstranění stávajících podkladních vrstev | AT94: P | AU94: 2
D95: VV | F95: 146+39,3 | H95: 185.3 | AT95: VV | AU95: 2 | AV95: 2 | AW95: True | AX95: 1 | AY95: ROZPOCET
D96: VV | F96: pol. 1 + pol. 2 | AT96: VV | AU96: 2 | AV96: 1 | AW96: True | AX96: 0 | AY96: ROZPOCET
C97: 4 | D97: K | E97: 113202111 | F97: Vytrhání obrub s vybouráním lože, s přemístěním hmot na skládku na vzdálenost do 3 m nebo s naložením na dopravní prostředek z krajníků nebo obrubníků stojatých | G97: m | H97: 219.5 | J97: =ROUND(I97*H97,2) -> 0 | K97: CS ÚRS 2016 02 | N97: základní | P97: =O97*H97 -> 0 | Q97: 0 | R97: =Q97*H97 -> 0 | S97: 0.205 | T97: =S97*H97 -> 44.9975 | AR97: 4 | AT97: K | AU97: 2 | AY97: ROZPOCET | BE97: =IF(N97="základní",J97,0) -> 0 | BF97: =IF(N97="snížená",J97,0) -> 0 | BG97: =IF(N97="zákl. přenesená",J97,0) -> 0 | BH97: =IF(N97="sníž. přenesená",J97,0) -> 0 | BI97: =IF(N97="nulová",J97,0) -> 0 | BJ97: 1 | BK97: =ROUND(I97*H97,2) -> 0 | BL97: 4 | BM97: 2135614050
D98: P | F98: Poznámka k položce: odstranění stávajících betonových obrubníků | AT98: P | AU98: 2
D99: VV | F99: 219,5 | H99: 219.5 | AT99: VV | AU99: 2 | AV99: 2 | AW99: True | AX99: 1 | AY99: ROZPOCET
D100: VV | F100: změřeno funkcí měření délek v elektronické verzi PD | AT100: VV | AU100: 2 | AV100: 1 | AW100: True | AX100: 0 | AY100: ROZPOCET
C101: 5 | D101: K | E101: 181951102 | F101: Úprava pláně vyrovnáním výškových rozdílů v hornině tř. 1 až 4 se zhutněním | G101: m2 | H101: 184.3 | J101: =ROUND(I101*H101,2) -> 0 | K101: CS ÚRS 2016 02 | N101: základní | P101: =O101*H101 -> 0 | Q101: 0 | R101: =Q101*H101 -> 0 | S101: 0 | T101: =S101*H101 -> 0 | AR101: 4 | AT101: K | AU101: 2 | AY101: ROZPOCET | BE101: =IF(N101="základní",J101,0) -> 0 | BF101: =IF(N101="snížená",J101,0) -> 0 | BG101: =IF(N101="zákl. přenesená",J101,0) -> 0 | BH101: =IF(N101="sníž. přenesená",J101,0) -> 0 | BI101: =IF(N101="nulová",J101,0) -> 0 | BJ101: 1 | BK101: =ROUND(I101*H101,2) -> 0 | BL101: 4 | BM101: -1237605719
D102: VV | F102: 145,5+38,8 | H102: 184.3 | AT102: VV | AU102: 2 | AV102: 2 | AW102: True | AX102: 1 | AY102: ROZPOCET
D103: VV | F103: pol. 8 + pol. 10 | AT103: VV | AU103: 2 | AV103: 1 | AW103: True | AX103: 0 | AY103: ROZPOCET
D104: D | E104: 5 | F104: Komunikace | J104: =BK104 -> 0 | P104: =SUM(P105:P128) -> 0 | R104: =SUM(R105:R128) -> 93.436946 | T104: =SUM(T105:T128) -> 0 | AR104: 1 | AT104: D | AU104: 1 | AY104: ROZPOCET | BK104: =SUM(BK105:BK128) -> 0
C105: 6 | D105: K | E105: 564851111 | F105: Podklad ze štěrkodrti ŠD s rozprostřením a zhutněním, po zhutnění tl. 150 mm | G105: m2 | H105: 145.5 | J105: =ROUND(I105*H105,2) -> 0 | K105: CS ÚRS 2016 02 | N105: základní | P105: =O105*H105 -> 0 | Q105: 0.27994 | R105: =Q105*H105 -> 40.73127 | S105: 0 | T105: =S105*H105 -> 0 | AR105: 4 | AT105: K | AU105: 2 | AY105: ROZPOCET | BE105: =IF(N105="základní",J105,0) -> 0 | BF105: =IF(N105="snížená",J105,0) -> 0 | BG105: =IF(N105="zákl. přenesená",J105,0) -> 0 | BH105: =IF(N105="sníž. přenesená",J105,0) -> 0 | BI105: =IF(N105="nulová",J105,0) -> 0 | BJ105: 1 | BK105: =ROUND(I105*H105,2) -> 0 | BL105: 4 | BM105: 230084272
D106: P | F106: Poznámka k položce: = pol. | AT106: P | AU106: 2
D107: VV | F107: 145,5 | H107: 145.5 | AT107: VV | AU107: 2 | AV107: 2 | AW107: True | AX107: 1 | AY107: ROZPOCET
D108: VV | F108: pol. 8 | AT108: VV | AU108: 2 | AV108: 1 | AW108: True | AX108: 0 | AY108: ROZPOCET
C109: 7 | D109: K | E109: 564861111 | F109: Podklad ze štěrkodrti ŠD s rozprostřením a zhutněním, po zhutnění tl. 200 mm | G109: m2 | H109: 38.8 | J109: =ROUND(I109*H109,2) -> 0 | K109: CS ÚRS 2016 02 | N109: základní | P109: =O109*H109 -> 0 | Q109: 0.378 | R109: =Q109*H109 -> 14.6664 | S109: 0 | T109: =S109*H109 -> 0 | AR109: 4 | AT109: K | AU109: 2 | AY109: ROZPOCET | BE109: =IF(N109="základní",J109,0) -> 0 | BF109: =IF(N109="snížená",J109,0) -> 0 | BG109: =IF(N109="zákl. přenesená",J109,0) -> 0 | BH109: =IF(N109="sníž. přenesená",J109,0) -> 0 | BI109: =IF(N109="nulová",J109,0) -> 0 | BJ109: 1 | BK109: =ROUND(I109*H109,2) -> 0 | BL109: 4 | BM109: -1758476825
D110: VV | F110: 38,8 | H110: 38.8 | AT110: VV | AU110: 2 | AV110: 2 | AW110: True | AX110: 1 | AY110: ROZPOCET
D111: VV | F111: pol. 10 | AT111: VV | AU111: 2 | AV111: 1 | AW111: True | AX111: 0 | AY111: ROZPOCET
C112: 8 | D112: K | E112: 596211112 | F112: Kladení dlažby z betonových zámkových dlaždic komunikací pro pěší s ložem z kameniva těženého nebo drceného tl. do 40 mm, s vyplněním spár s dvojitým hutněním, vibrováním a se smetením přebytečného materiálu na krajnici tl. 60 mm skupiny A, pro plochy přes 100 do 300 m2 | G112: m2 | H112: 145.5 | J112: =ROUND(I112*H112,2) -> 0 | K112: CS ÚRS 2016 02 | N112: základní | P112: =O112*H112 -> 0 | Q112: 0.08425 | R112: =Q112*H112 -> 12.258375 | S112: 0 | T112: =S112*H112 -> 0 | AR112: 4 | AT112: K | AU112: 2 | AY112: ROZPOCET | BE112: =IF(N112="základní",J112,0) -> 0 | BF112: =IF(N112="snížená",J112,0) -> 0 | BG112: =IF(N112="zákl. přenesená",J112,0) -> 0 | BH112: =IF(N112="sníž. přenesená",J112,0) -> 0 | BI112: =IF(N112="nulová",J112,0) -> 0 | BJ112: 1 | BK112: =ROUND(I112*H112,2) -> 0 | BL112: 4 | BM112: -574692615
D113: VV | F113: 145,5 | H113: 145.5 | AT113: VV | AU113: 2 | AV113: 2 | AW113: True | AX113: 1 | AY113: ROZPOCET
D114: VV | F114: změřeno funkcí měření ploch v elektronické verzi PD | AT114: VV | AU114: 2 | AV114: 1 | AW114: True | AX114: 0 | AY114: ROZPOCET
C115: 9 | D115: M | E115: 59245304R | F115: Dlaždice betonové dlažba zámková (ČSN EN 1338) dlažba vibrolisovaná standardní povrch (uzavřený hladký povrch) provedení: přírodní se zámkem 20 x 16,5 x 6 | G115: m2 | H115: 148.41 | J115: =ROUND(I115*H115,2) -> 0 | N115: základní | P115: =O115*H115 -> 0 | Q115: 0.113 | R115: =Q115*H115 -> 16.77033 | S115: 0 | T115: =S115*H115 -> 0 | AR115: 8 | AT115: M | AU115: 2 | AY115: ROZPOCET | BE115: =IF(N115="základní",J115,0) -> 0 | BF115: =IF(N115="snížená",J115,0) -> 0 | BG115: =IF(N115="zákl. přenesená",J115,0) -> 0 | BH115: =IF(N115="sníž. přenesená",J115,0) -> 0 | BI115: =IF(N115="nulová",J115,0) -> 0 | BJ115: 1 | BK115: =ROUND(I115*H115,2) -> 0 | BL115: 4 | BM115: 158911754
D116: P | F116: Poznámka k položce: +2 % na prořez | AT116: P | AU116: 2
D117: VV | F117: 145,5*1,02 | H117: 148.41 | AT117: VV | AU117: 2 | AV117: 2 | AW117: True | AX117: 1 | AY117: ROZPOCET
D118: VV | F118: pol. 8*1,02 | AT118: VV | AU118: 2 | AV118: 1 | AW118: True | AX118: 0 | AY118: ROZPOCET
C119: 10 | D119: K | E119: 596211210 | F119: Kladení dlažby z betonových zámkových dlaždic komunikací pro pěší s ložem z kameniva těženého nebo drceného tl. do 40 mm, s vyplněním spár s dvojitým hutněním, vibrováním a se smetením přebytečného materiálu na krajnici tl. 80 mm skupiny A, pro plochy do 50 m2 | G119: m2 | H119: 38.8 | J119: =ROUND(I119*H119,2) -> 0 | K119: CS ÚRS 2016 02 | N119: základní | P119: =O119*H119 -> 0 | Q119: 0.08565 | R119: =Q119*H119 -> 3.32322 | S119: 0 | T119: =S119*H119 -> 0 | AR119: 4 | AT119: K | AU119: 2 | AY119: ROZPOCET | BE119: =IF(N119="základní",J119,0) -> 0 | BF119: =IF(N119="snížená",J119,0) -> 0 | BG119: =IF(N119="zákl. přenesená",J119,0) -> 0 | BH119: =IF(N119="sníž. přenesená",J119,0) -> 0 | BI119: =IF(N119="nulová",J119,0) -> 0 | BJ119: 1 | BK119: =ROUND(I119*H119,2) -> 0 | BL119: 4 | BM119: 35802806
D120: VV | F120: 17,9+20,9 | H120: 38.8 | AT120: VV | AU120: 2 | AV120: 2 | AW120: True | AX120: 1 | AY120: ROZPOCET
C121: 11 | D121: M | E121: 59245283R | F121: Dlaždice betonové dlažba zámková (ČSN EN 1338) dlažba vibrolisovaná standardní povrch (uzavřený hladký povrch) provedení: červená,hnědá,okrová,antracit se zámkem 20 x 16,5 x 8 | G121: m2 | H121: 21.527 | J121: =ROUND(I121*H121,2) -> 0 | N121: základní | P121: =O121*H121 -> 0 | Q121: 0.152 | R121: =Q121*H121 -> 3.272104 | S121: 0 | T121: =S121*H121 -> 0 | AR121: 8 | AT121: M | AU121: 2 | AY121: ROZPOCET | BE121: =IF(N121="základní",J121,0) -> 0 | BF121: =IF(N121="snížená",J121,0) -> 0 | BG121: =IF(N121="zákl. přenesená",J121,0) -> 0 | BH121: =IF(N121="sníž. přenesená",J121,0) -> 0 | BI121: =IF(N121="nulová",J121,0) -> 0 | BJ121: 1 | BK121: =ROUND(I121*H121,2) -> 0 | BL121: 4 | BM121: -550962977
D122: P | F122: Poznámka k položce: červená dlažba ve vjezdech | AT122: P | AU122: 2
D123: VV | F123: 20,9*1,03 | H123: 21.527 | AT123: VV | AU123: 2 | AV123: 2 | AW123: True | AX123: 1 | AY123: ROZPOCET
D124: VV | F124: změřeno funkcí měření ploch v elektronické verzi PD | AT124: VV | AU124: 2 | AV124: 1 | AW124: True | AX124: 0 | AY124: ROZPOCET
C125: 12 | D125: M | E125: 59245267R | F125: Dlaždice betonové dlažba zámková (ČSN EN 1338) dlažba vibrolisovaná tvarově jednoduchá dlažba pro nevidomé 20 x 10 x 8 | G125: m2 | H125: 18.437 | J125: =ROUND(I125*H125,2) -> 0 | N125: základní | P125: =O125*H125 -> 0 | Q125: 0.131 | R125: =Q125*H125 -> 2.415247 | S125: 0 | T125: =S125*H125 -> 0 | AR125: 8 | AT125: M | AU125: 2 | AY125: ROZPOCET | BE125: =IF(N125="základní",J125,0) -> 0 | BF125: =IF(N125="snížená",J125,0) -> 0 | BG125: =IF(N125="zákl. přenesená",J125,0) -> 0 | BH125: =IF(N125="sníž. přenesená",J125,0) -> 0 | BI125: =IF(N125="nulová",J125,0) -> 0 | BJ125: 1 | BK125: =ROUND(I125*H125,2) -> 0 | BL125: 4 | BM125: -432845803
D126: P | F126: Poznámka k položce: +3 % na prořez | AT126: P | AU126: 2
D127: VV | F127: 17,9*1,03 | H127: 18.437 | AT127: VV | AU127: 2 | AV127: 2 | AW127: True | AX127: 1 | AY127: ROZPOCET
D128: VV | F128: změřeno funkcí měření ploch v elektronické verzi PD | AT128: VV | AU128: 2 | AV128: 1 | AW128: True | AX128: 0 | AY128: ROZPOCET
D129: D | E129: 9 | F129: Ostatní konstrukce a práce, bourání | J129: =BK129 -> 0 | P129: =SUM(P130:P143) -> 0 | R129: =SUM(R130:R143) -> 49.590213 | T129: =SUM(T130:T143) -> 0.008 | AR129: 1 | AT129: D | AU129: 1 | AY129: ROZPOCET | BK129: =SUM(BK130:BK143) -> 0
C130: 13 | D130: K | E130: 914111111 | F130: Montáž svislé dopravní značky základní velikosti do 1 m2 objímkami na sloupky nebo konzoly | G130: kus | H130: 2 | J130: =ROUND(I130*H130,2) -> 0 | K130: CS ÚRS 2016 02 | N130: základní | P130: =O130*H130 -> 0 | Q130: 0.0007 | R130: =Q130*H130 -> 0.0014 | S130: 0 | T130: =S130*H130 -> 0 | AR130: 4 | AT130: K | AU130: 2 | AY130: ROZPOCET | BE130: =IF(N130="základní",J130,0) -> 0 | BF130: =IF(N130="snížená",J130,0) -> 0 | BG130: =IF(N130="zákl. přenesená",J130,0) -> 0 | BH130: =IF(N130="sníž. přenesená",J130,0) -> 0 | BI130: =IF(N130="nulová",J130,0) -> 0 | BJ130: 1 | BK130: =ROUND(I130*H130,2) -> 0 | BL130: 4 | BM130: 1457582227
D131: P | F131: Poznámka k položce: opětovné osazení stávajících dopravních značek sejmutých před zahájením stavby | AT131: P | AU131: 2
...
