Workbook

Sheet Rekapitulace stavby
A1: Export VZ | D1: List obsahuje: | K1: 1) Rekapitulace stavby | W1: 2) Rekapitulace objektů stavby a soupisů prací | BA1: 3.0 | BT1: False | BU1: False | BV1: {f7b0ae17-1915-422c-ba3d-f1d4490fe0db}
AR2: >> skryté sloupce << | BS2: 0,01 | BT2: 21
BS3: 0,01 | BT3: 15
D4: REKAPITULACE STAVBY | AS4: v --- níže se nacházejí doplnkové a pomocné údaje k sestavám --- v | BE4: Návod na vyplnění | BS4: 0,001
D5: Kód: | K5: 400/15-1 | BE5: Měnit lze pouze buňky se žlutým podbarvením!_x000D_ _x000D_ 1) v Rekapitulaci stavby vyplňte údaje o Uchazeči (přenesou se do ostatních sestav i v jiných listech)_x000D_ _x000D_ 2) na vybraných listech vyplňte v sestavě Soupis prací ceny u položek_x000D_ _x000D_ Podrobnosti k vyplnění naleznete na poslední záložce s Pokyny pro vyplnění | BS5: 0,01
D6: Stavba: | K6: Oprava chodníku v ulici Přeloučská | BS6: 0,1
D7: KSO: | AK7: CC-CZ: | BS7: 1
D8: Místo: | AK8: Datum: | AN8: 21.06.2016 | BS8: 10
BS9: 100
D10: Zadavatel: | AK10: IČ: | BS10: 0,1
AK11: DIČ: | BS11: 0,1
BS12: 0,1
D13: Uchazeč: | AK13: IČ: | AN13: Vyplň údaj | BS13: 0,1
E14: Vyplň údaj | AK14: DIČ: | AN14: Vyplň údaj | BS14: 0,1
BS15: False
D16: Projektant: | AK16: IČ: | BS16: False
AK17: DIČ: | BS17: True
BS18: 0,01
D19: Poznámka: | BS19: 0,01
BS20: False
D23: Cena bez DPH | AK23: =ROUND(AG51,2) -> 0
L25: Sazba daně | W25: Základ daně | AK25: Výše daně
D26: DPH | F26: základní | L26: 0.21 | W26: =ROUND(AZ51,2) -> 0 | AK26: =ROUND(AV51,2) -> 0
F27: snížená | L27: 0.15 | W27: =ROUND(BA51,2) -> 0 | AK27: =ROUND(AW51,2) -> 0
F28: zákl. přenesená | L28: 0.21 | W28: =ROUND(BB51,2) -> 0 | AK28: 0
F29: sníž. přenesená | L29: 0.15 | W29: =ROUND(BC51,2) -> 0 | AK29: 0
F30: nulová | L30: 0 | W30: =ROUND(BD51,2) -> 0 | AK30: 0
D32: Cena s DPH | T32: v | X32: CZK | AK32: =SUM(AK23:AK30) -> 0
C39: REKAPITULACE OBJEKTŮ STAVBY A SOUPISŮ PRACÍ
C41: Kód: | L41: =K5 -> 400/15-1
C42: Stavba: | L42: =K6 -> Oprava chodníku v ulici Přeloučská
C44: Místo: | L44: =IF(K8="","",K8) | AI44: Datum: | AM44: =IF(AN8= "","",AN8) -> 21.06.2016
C46: Zadavatel: | L46: =IF(E11= "","",E11) | AI46: Projektant: | AM46: =IF(E17="","",E17) | AS46: Informatívní údaje z listů zakázek
C47: Uchazeč: | L47: =IF(E14= "Vyplň údaj","",E14)
C49: Kód | I49: Objekt, Soupis prací | AG49: Cena bez DPH [CZK] | AN49: Cena s DPH [CZK] | AQ49: Typ | AS49: z toho Ostat._x000D_ náklady [CZK] | AT49: DPH [CZK] | AU49: Normohodiny [h] | AV49: DPH základní [CZK] | AW49: DPH snížená [CZK] | AX49: DPH základní přenesená_x000D_ [CZK] | AY49: DPH snížená přenesená_x000D_ [CZK] | AZ49: Základna_x000D_ DPH základní | BA49: Základna_x000D_ DPH snížená | BB49: Základna_x000D_ DPH zákl. přenesená | BC49: Základna_x000D_ DPH sníž. přenesená | BD49: Základna_x000D_ DPH nulová
C51: Náklady stavby celkem | AG51: =ROUND(SUM(AG52:AG53),2) -> 0 | AN51: =SUM(AG51,AT51) -> 0 | AS51: =ROUND(SUM(AS52:AS53),2) -> 0 | AT51: =ROUND(SUM(AV51:AW51),2) -> 0 | AU51: =ROUND(SUM(AU52:AU53),5) -> 0 | AV51: =ROUND(AZ51*L26,2) -> 0 | AW51: =ROUND(BA51*L27,2) -> 0 | AX51: =ROUND(BB51*L26,2) -> 0 | AY51: =ROUND(BC51*L27,2) -> 0 | AZ51: =ROUND(SUM(AZ52:AZ53),2) -> 0 | BA51: =ROUND(SUM(BA52:BA53),2) -> 0 | BB51: =ROUND(SUM(BB52:BB53),2) -> 0 | BC51: =ROUND(SUM(BC52:BC53),2) -> 0 | BD51: =ROUND(SUM(BD52:BD53),2) -> 0 | BS51: D | BT51: 0 | BU51: ###NOIMPORT### | BV51: IMPORT | BW51: {f7b0ae17-1915-422c-ba3d-f1d4490fe0db} | BX51: {00000000-0000-0000-0000-000000000000}
A52: / | D52: 400/15-1-0 | J52: Vedlejší a ostatní rozpočtové náklady | AG52: ='400-15-1-0 - Vedlejší a o...'!J27 -> 0 | AN52: =SUM(AG52,AT52) -> 0 | AQ52: STA | AS52: 0 | AT52: =ROUND(SUM(AV52:AW52),2) -> 0 | AU52: ='400-15-1-0 - Vedlejší a o...'!P80 -> 0 | AV52: ='400-15-1-0 - Vedlejší a o...'!J30 -> 0 | AW52: ='400-15-1-0 - Vedlejší a o...'!J31 -> 0 | AX52: ='400-15-1-0 - Vedlejší a o...'!J32 -> 0 | AY52: ='400-15-1-0 - Vedlejší a o...'!J33 -> 0 | AZ52: ='400-15-1-0 - Vedlejší a o...'!F30 -> 0 | BA52: ='400-15-1-0 - Vedlejší a o...'!F31 -> 0 | BB52: ='400-15-1-0 - Vedlejší a o...'!F32 -> 0 | BC52: ='400-15-1-0 - Vedlejší a o...'!F33 -> 0 | BD52: ='400-15-1-0 - Vedlejší a o...'!F34 -> 0 | BT52: 1 | BV52: IMPORT | BW52: {3bf5029a-e4ab-4b5b-bce0-cc4385150eed} | BX52: {f7b0ae17-1915-422c-ba3d-f1d4490fe0db} | CM52: 2
A53: / | D53: 400/15-1-1 | J53: SO 101 Oprava chodníku | AG53: ='400-15-1-1 - SO 101 Oprav...'!J27 -> 0 | AN53: =SUM(AG53,AT53) -> 0 | AQ53: STA | AS53: 0 | AT53: =ROUND(SUM(AV53:AW53),2) -> 0 | AU53: ='400-15-1-1 - SO 101 Oprav...'!P82 -> 0 | AV53: ='400-15-1-1 - SO 101 Oprav...'!J30 -> 0 | AW53: ='400-15-1-1 - SO 101 Oprav...'!J31 -> 0 | AX53: ='400-15-1-1 - SO 101 Oprav...'!J32 -> 0 | AY53: ='400-15-1-1 - SO 101 Oprav...'!J33 -> 0 | AZ53: ='400-15-1-1 - SO 101 Oprav...'!F30 -> 0 | BA53: ='400-15-1-1 - SO 101 Oprav...'!F31 -> 0 | BB53: ='400-15-1-1 - SO 101 Oprav...'!F32 -> 0 | BC53: ='400-15-1-1 - SO 101 Oprav...'!F33 -> 0 | BD53: ='400-15-1-1 - SO 101 Oprav...'!F34 -> 0 | BT53: 1 | BV53: IMPORT | BW53: {553aef3c-424b-401c-bb4c-06c2b60bd366} | BX53: {f7b0ae17-1915-422c-ba3d-f1d4490fe0db} | CM53: 2

Sheet 400-15-1-0 - Vedlejší a o...
D1: List obsahuje: | F1: 1) Krycí list soupisu | G1: 2) Rekapitulace | J1: 3) Soupis prací | K1: Zpět na list: | L1: Rekapitulace stavby
L2: >> skryté sloupce << | AT2: {3bf5029a-e4ab-4b5b-bce0-cc4385150eed}
AT3: 2
D4: KRYCÍ LIST SOUPISU | M4: v --- níže se nacházejí doplnkové a pomocné údaje k sestavám --- v | AT4: False
D6: Stavba:
E7: ='Rekapitulace stavby'!K6 -> Oprava chodníku v ulici Přeloučská
D8: Objekt:
E9: 400/15-1-0 - Vedlejší a ostatní rozpočtové náklady
D11: KSO: | I11: CC-CZ:
D12: Místo: | I12: Datum: | J12: ='Rekapitulace stavby'!AN8 -> 21.06.2016
D14: Zadavatel: | I14: IČ: | J14: =IF('Rekapitulace stavby'!AN10="","",'Rekapitulace stavby'!AN10)
E15: =IF('Rekapitulace stavby'!E11="","",'Rekapitulace stavby'!E11) | I15: DIČ: | J15: =IF('Rekapitulace stavby'!AN11="","",'Rekapitulace stavby'!AN11)
D17: Uchazeč: | I17: IČ: | J17: =IF('Rekapitulace stavby'!AN13="Vyplň údaj","",IF('Rekapitulace stavby'!AN13="","",'Rekapitulace stavby'!AN13))
E18: =IF('Rekapitulace stavby'!E14="Vyplň údaj","",IF('Rekapitulace stavby'!E14="","",'Rekapitulace stavby'!E14)) | I18: DIČ: | J18: =IF('Rekapitulace stavby'!AN14="Vyplň údaj","",IF('Rekapitulace stavby'!AN14="","",'Rekapitulace stavby'!AN14))
D20: Projektant: | I20: IČ: | J20: =IF('Rekapitulace stavby'!AN16="","",'Rekapitulace stavby'!AN16)
E21: =IF('Rekapitulace stavby'!E17="","",'Rekapitulace stavby'!E17) | I21: DIČ: | J21: =IF('Rekapitulace stavby'!AN17="","",'Rekapitulace stavby'!AN17)
D23: Poznámka:
D27: Cena bez DPH | J27: =ROUND(J80,2) -> 0
F29: Základ daně | I29: Sazba daně | J29: Výše daně
D30: DPH | E30: základní | F30: =ROUND(SUM(BE80:BE91), 2) -> 0 | I30: 0.21 | J30: =ROUND(ROUND((SUM(BE80:BE91)), 2)*I30, 2) -> 0
E31: snížená | F31: =ROUND(SUM(BF80:BF91), 2) -> 0 | I31: 0.15 | J31: =ROUND(ROUND((SUM(BF80:BF91)), 2)*I31, 2) -> 0
E32: zákl. přenesená | F32: =ROUND(SUM(BG80:BG91), 2) -> 0 | I32: 0.21 | J32: 0
E33: sníž. přenesená | F33: =ROUND(SUM(BH80:BH91), 2) -> 0 | I33: 0.15 | J33: 0
E34: nulová | F34: =ROUND(SUM(BI80:BI91), 2) -> 0 | I34: 0 | J34: 0
D36: Cena s DPH | G36: v | H36: CZK | J36: =SUM(J27:J34) -> 0
C42: REKAPITULACE ČLENĚNÍ SOUPISU PRACÍ
C44: Stavba:
E45: =E7 -> Oprava chodníku v ulici Přeloučská
C46: Objekt:
E47: =E9 -> 400/15-1-0 - Vedlejší a ostatní rozpočtové náklady
C49: Místo: | F49: =F12 | I49: Datum: | J49: =IF(J12="","",J12) -> 21.06.2016
C51: Zadavatel: | F51: =E15 | I51: Projektant: | J51: =E21
C52: Uchazeč: | F52: =IF(E18="","",E18)
C54: Kód dílu - Popis | J54: Cena celkem [CZK]
C56: Náklady soupisu celkem | J56: =J80 -> 0 | AU56: -1
D57: VRN - Vedlejší rozpočtové náklady | J57: =J81 -> 0
D58: VRN1 - Průzkumné, geodetické a projektové práce | J58: =J82 -> 0
D59: VRN3 - Zařízení staveniště | J59: =J84 -> 0
D60: VRN4 - Inženýrská činnost | J60: =J88 -> 0
C67: SOUPIS PRACÍ
...

Sheet 400-15-1-1 - SO 101 Oprav...
D1: List obsahuje: | F1: 1) Krycí list soupisu | G1: 2) Rekapitulace | J1: 3) Soupis prací | K1: Zpět na list: | L1: Rekapitulace stavby
L2: >> skryté sloupce << | AT2: {553aef3c-424b-401c-bb4c-06c2b60bd366}
AT3: 2
D4: KRYCÍ LIST SOUPISU | M4: v --- níže se nacházejí doplnkové a pomocné údaje k sestavám --- v | AT4: False
D6: Stavba:
E7: ='Rekapitulace stavby'!K6 -> Oprava chodníku v ulici Přeloučská
D8: Objekt:
E9: 400/15-1-1 - SO 101 Oprava chodníku
D11: KSO: | I11: CC-CZ:
D12: Místo: | I12: Datum: | J12: ='Rekapitulace stavby'!AN8 -> 21.06.2016
D14: Zadavatel: | I14: IČ: | J14: =IF('Rekapitulace stavby'!AN10="","",'Rekapitulace stavby'!AN10)
E15: =IF('Rekapitulace stavby'!E11="","",'Rekapitulace stavby'!E11) | I15: DIČ: | J15: =IF('Rekapitulace stavby'!AN11="","",'Rekapitulace stavby'!AN11)
D17: Uchazeč: | I17: IČ: | J17: =IF('Rekapitulace stavby'!AN13="Vyplň údaj","",IF('Rekapitulace stavby'!AN13="","",'Rekapitulace stavby'!AN13))
E18: =IF('Rekapitulace stavby'!E14="Vyplň údaj","",IF('Rekapitulace stavby'!E14="","",'Rekapitulace stavby'!E14)) | I18: DIČ: | J18: =IF('Rekapitulace stavby'!AN14="Vyplň údaj","",IF('Rekapitulace stavby'!AN14="","",'Rekapitulace stavby'!AN14))
D20: Projektant: | I20: IČ: | J20: =IF('Rekapitulace stavby'!AN16="","",'Rekapitulace stavby'!AN16)
E21: =IF('Rekapitulace stavby'!E17="","",'Rekapitulace stavby'!E17) | I21: DIČ: | J21: =IF('Rekapitulace stavby'!AN17="","",'Rekapitulace stavby'!AN17)
D23: Poznámka:
D27: Cena bez DPH | J27: =ROUND(J82,2) -> 0
F29: Základ daně | I29: Sazba daně | J29: Výše daně
D30: DPH | E30: základní | F30: =ROUND(SUM(BE82:BE167), 2) -> 0 | I30: 0.21 | J30: =ROUND(ROUND((SUM(BE82:BE167)), 2)*I30, 2) -> 0
E31: snížená | F31: =ROUND(SUM(BF82:BF167), 2) -> 0 | I31: 0.15 | J31: =ROUND(ROUND((SUM(BF82:BF167)), 2)*I31, 2) -> 0
E32: zákl. přenesená | F32: =ROUND(SUM(BG82:BG167), 2) -> 0 | I32: 0.21 | J32: 0
E33: sníž. přenesená | F33: =ROUND(SUM(BH82:BH167), 2) -> 0 | I33: 0.15 | J33: 0
E34: nulová | F34: =ROUND(SUM(BI82:BI167), 2) -> 0 | I34: 0 | J34: 0
D36: Cena s DPH | G36: v | H36: CZK | J36: =SUM(J27:J34) -> 0
C42: REKAPITULACE ČLENĚNÍ SOUPISU PRACÍ
C44: Stavba:
E45: =E7 -> Oprava chodníku v ulici Přeloučská
C46: Objekt:
E47: =E9 -> 400/15-1-1 - SO 101 Oprava chodníku
C49: Místo: | F49: =F12 | I49: Datum: | J49: =IF(J12="","",J12) -> 21.06.2016
C51: Zadavatel: | F51: =E15 | I51: Projektant: | J51: =E21
C52: Uchazeč: | F52: =IF(E18="","",E18)
C54: Kód dílu - Popis | J54: Cena celkem [CZK]
C56: Náklady soupisu celkem | J56: =J82 -> 0 | AU56: -1
D57: HSV - Práce a dodávky HSV | J57: =J83 -> 0
D58: 1 - Zemní práce | J58: =J84 -> 0
D59: 5 - Komunikace | J59: =J104 -> 0
D60: 9 - Ostatní konstrukce a práce, bourání | J60: =J129 -> 0
D61: 997 - Přesun sutě | J61: =J144 -> 0
...
