Workbook

Sheet Rekapitulace stavby
A1: Export VZ | D1: List obsahuje: | K1: 1) Rekapitulace stavby | W1: 2) Rekapitulace objektů stavby a soupisů prací | BA1: 3.0 | BB1: ODOM | BT1: False | BU1: False | BV1: {09E17A17-5104-4BEA-8FA1-AAD8BB077C05}
AR2: >> skryté sloupce << | BS2: 0,01 | BT2: 21
BS3: 0,01 | BT3: 15
D4: REKAPITULACE STAVBY | AS4: v --- níže se nacházejí doplnkové a pomocné údaje k sestavám --- v | BE4: Návod na vyplnění | BS4: 0,001
D5: Kód: | K5: 4 | BE5: Měnit lze pouze buňky se žlutým podbarvením! 1) v Rekapitulaci stavby vyplňte údaje o Uchazeči (přenesou se do ostatních sestav i v jiných listech) 2) na vybraných listech vyplňte v sestavě Soupis prací ceny u položek Podrobnosti k vyplnění naleznete na poslední záložce s Pokyny pro vyplnění | BS5: 0,01
D6: Stavba: | K6: Rekonstrukce chodníků ul. Pražská | BS6: 0,1
D7: KSO: | K7: 822 25 | AK7: CC-CZ: | BS7: 1
D8: Místo: | K8: Parduvbice, v Popkovicích podíl st. silnice I/2 | AK8: Datum: | AN8: 27.04.2014 | BS8: 10
BS9: 100
D10: Zadavatel: | AK10: IČ: | BS10: 0,1
AK11: DIČ: | BS11: 0,1
BS12: 0,1
D13: Uchazeč: | AK13: IČ: | AN13: Vyplň údaj | BS13: 0,1
E14: Vyplň údaj | AK14: DIČ: | AN14: Vyplň údaj | BS14: 0,1
BS15: False
D16: Projektant: | AK16: IČ: | BS16: False
E17: Bc. Jan Touš | AK17: DIČ: | BS17: True
BS18: 0,01
D19: Poznámka: | BS19: 0,01
E20: Soupis prací je sestaven za využití položek Cenové soustavy ÚRS. Cenové a technické podmínky ÚRS, které nejsou uvedeny v soupisu prací (tzv. úvodní části katalogů) jsou neomezeně dálkově k dispozici na www.cs-urs.cz. Položky soupisu prací, které nemají ve sloupci "Cenová soustava" uveden žádný údaj, nepochází z Cenové soustavy ÚRS. Pokud jsou v soupisu prací označeny výrobky a materiály obchodním názvem, lze je zaměnit za jiné, kvalitativně a technicky obdobné. Soupis prací je zpracován v souladu s vyhl. 230/2012 Sb. | BS20: False
D23: Cena bez DPH | AK23: =ROUND($AG$51,2) -> 0
L25: Sazba daně | W25: Základ daně | AK25: Výše daně
D26: DPH | F26: základní | L26: 0.21 | W26: =ROUND($AZ$51,2) -> 0 | AK26: =ROUND($AV$51,2) -> 0
F27: snížená | L27: 0.15 | W27: =ROUND($BA$51,2) -> 0 | AK27: =ROUND($AW$51,2) -> 0
F28: zákl. přenesená | L28: 0.21 | W28: =ROUND($BB$51,2) -> 0 | AK28: 0
F29: sníž. přenesená | L29: 0.15 | W29: =ROUND($BC$51,2) -> 0 | AK29: 0
F30: nulová | L30: 0 | W30: =ROUND($BD$51,2) -> 0 | AK30: 0
D32: Cena s DPH | T32: v | X32: CZK | AK32: =ROUND(SUM($AK$23:$AK$30),2) -> 0
C39: REKAPITULACE OBJEKTŮ STAVBY A SOUPISŮ PRACÍ
C41: Kód: | L41: =$K$5 -> 4
C42: Stavba: | L42: =$K$6 -> Rekonstrukce chodníků ul. Pražská
C44: Místo: | L44: =IF($K$8="","",$K$8) -> Parduvbice, v Popkovicích podíl st. silnice I/2 | AI44: Datum: | AM44: =IF($AN$8="","",$AN$8) -> 27.04.2014
C46: Zadavatel: | L46: =IF($E$11="","",$E$11) | AI46: Projektant: | AM46: =IF($E$17="","",$E$17) -> Bc. Jan Touš | AS46: Informatívní údaje z listů zakázek
C47: Uchazeč: | L47: =IF($E$14="Vyplň údaj","",$E$14)
C49: Kód | I49: Objekt, Soupis prací | AG49: Cena bez DPH [CZK] | AN49: Cena s DPH [CZK] | AQ49: Typ | AS49: z toho Ostat. náklady [CZK] | AT49: DPH [CZK] | AU49: Normohodiny [h] | AV49: DPH základní [CZK] | AW49: DPH snížená [CZK] | AX49: DPH základní přenesená [CZK] | AY49: DPH snížená přenesená [CZK] | AZ49: Základna DPH základní | BA49: Základna DPH snížená | BB49: Základna DPH zákl. přenesená | BC49: Základna DPH sníž. přenesená | BD49: Základna DPH nulová
C51: Náklady stavby celkem | AG51: =ROUND(SUM($AG$52:$AG$53),2) -> 0 | AN51: =ROUND(SUM($AG$51,$AT$51),2) -> 0 | AS51: =ROUND(SUM($AS$52:$AS$53),2) -> 0 | AT51: =ROUND(SUM($AV$51:$AW$51),2) -> 0 | AU51: =ROUND(SUM($AU$52:$AU$53),5) -> 0 | AV51: =ROUND($AZ$51*$L$26,2) -> 0 | AW51: =ROUND($BA$51*$L$27,2) -> 0 | AX51: =ROUND($BB$51*$L$26,2) -> 0 | AY51: =ROUND($BC$51*$L$27,2) -> 0 | AZ51: =ROUND(SUM($AZ$52:$AZ$53),2) -> 0 | BA51: =ROUND(SUM($BA$52:$BA$53),2) -> 0 | BB51: =ROUND(SUM($BB$52:$BB$53),2) -> 0 | BC51: =ROUND(SUM($BC$52:$BC$53),2) -> 0 | BD51: =ROUND(SUM($BD$52:$BD$53),2) -> 0 | BS51: D | BT51: 0 | BU51: ###NOIMPORT### | BV51: IMPORT | BW51: {09E17A17-5104-4BEA-8FA1-AAD8BB077C05} | BX51: {00000000-0000-0000-0000-000000000000} | CL51: 822 25
A52: / | D52: 1 | J52: Stavební část | AG52: ='1 - Stavební část '!$J$27 -> 0 | AN52: =ROUND(SUM($AG$52,$AT$52),2) -> 0 | AQ52: STA | AS52: 0 | AT52: =ROUND(SUM($AV$52:$AW$52),2) -> 0 | AU52: ='1 - Stavební část '!$P$85 -> 0 | AV52: ='1 - Stavební část '!$J$30 -> 0 | AW52: ='1 - Stavební část '!$J$31 -> 0 | AX52: ='1 - Stavební část '!$J$32 -> 0 | AY52: ='1 - Stavební část '!$J$33 -> 0 | AZ52: ='1 - Stavební část '!$F$30 -> 0 | BA52: ='1 - Stavební část '!$F$31 -> 0 | BB52: ='1 - Stavební část '!$F$32 -> 0 | BC52: ='1 - Stavební část '!$F$33 -> 0 | BD52: ='1 - Stavební část '!$F$34 -> 0 | BT52: 1 | BV52: IMPORT | BW52: {DE8DB3F3-0A24-4A58-B2C8-2548E2834C52} | BX52: {09E17A17-5104-4BEA-8FA1-AAD8BB077C05} | CM52: 2
A53: / | D53: VON | J53: Vedlejší a ostatní rozpočtové náklady | AG53: ='VON - Vedlejší a ostatní ...'!$J$27 -> 0 | AN53: =ROUND(SUM($AG$53,$AT$53),2) -> 0 | AQ53: VON | AS53: 0 | AT53: =ROUND(SUM($AV$53:$AW$53),2) -> 0 | AU53: ='VON - Vedlejší a ostatní ...'!$P$79 -> 0 | AV53: ='VON - Vedlejší a ostatní ...'!$J$30 -> 0 | AW53: ='VON - Vedlejší a ostatní ...'!$J$31 -> 0 | AX53: ='VON - Vedlejší a ostatní ...'!$J$32 -> 0 | AY53: ='VON - Vedlejší a ostatní ...'!$J$33 -> 0 | AZ53: ='VON - Vedlejší a ostatní ...'!$F$30 -> 0 | BA53: ='VON - Vedlejší a ostatní ...'!$F$31 -> 0 | BB53: ='VON - Vedlejší a ostatní ...'!$F$32 -> 0 | BC53: ='VON - Vedlejší a ostatní ...'!$F$33 -> 0 | BD53: ='VON - Vedlejší a ostatní ...'!$F$34 -> 0 | BT53: 1 | BV53: IMPORT | BW53: {279A0AFB-76C9-4A54-9934-7F697275337A} | BX53: {09E17A17-5104-4BEA-8FA1-AAD8BB077C05} | CM53: 2

Sheet 1 - Stavební část 
D1: List obsahuje: | F1: 1) Krycí list soupisu | G1: 2) Rekapitulace | J1: 3) Soupis prací | K1: Zpět na list: | L1: Rekapitulace stavby
L2: >> skryté sloupce << | AT2: {DE8DB3F3-0A24-4A58-B2C8-2548E2834C52} | AZ2: chodníky | BB2: m2 | BC2: 779,395 | BD2: 2
AT3: 2 | AZ3: vjezdy | BB3: m2 | BC3: 192,029 | BD3: 2
D4: KRYCÍ LIST SOUPISU | M4: v --- níže se nacházejí doplnkové a pomocné údaje k sestavám --- v | AT4: False | AZ4: zám8 | BB4: m2 | BC4: 105,959 | BD4: 2
AZ5: zám8nev | BB5: m2 | BC5: 86,07 | BD5: 2
D6: Stavba:
E7: ='Rekapitulace stavby'!$K$6 -> Rekonstrukce chodníků ul. Pražská
D8: Objekt:
E9: 1 - Stavební část
D11: KSO: | I11: CC-CZ:
D12: Místo: | F12: Parduvbice, v Popkovicích podíl st. silnice I/2 | I12: Datum: | J12: ='Rekapitulace stavby'!$AN$8 -> 27.04.2014
D14: Zadavatel: | I14: IČ: | J14: =IF('Rekapitulace stavby'!$AN$10="","",'Rekapitulace stavby'!$AN$10)
E15: =IF('Rekapitulace stavby'!$E$11="","",'Rekapitulace stavby'!$E$11) | I15: DIČ: | J15: =IF('Rekapitulace stavby'!$AN$11="","",'Rekapitulace stavby'!$AN$11)
D17: Uchazeč: | I17: IČ: | J17: =IF('Rekapitulace stavby'!$AN$13="Vyplň údaj","",IF('Rekapitulace stavby'!$AN$13="","",'Rekapitulace stavby'!$AN$13))
E18: =IF('Rekapitulace stavby'!$E$14="Vyplň údaj","",IF('Rekapitulace stavby'!$E$14="","",'Rekapitulace stavby'!$E$14)) | I18: DIČ: | J18: =IF('Rekapitulace stavby'!$AN$14="Vyplň údaj","",IF('Rekapitulace stavby'!$AN$14="","",'Rekapitulace stavby'!$AN$14))
D20: Projektant: | I20: IČ: | J20: =IF('Rekapitulace stavby'!$AN$16="","",'Rekapitulace stavby'!$AN$16)
E21: =IF('Rekapitulace stavby'!$E$17="","",'Rekapitulace stavby'!$E$17) -> Bc. Jan Touš | I21: DIČ: | J21: =IF('Rekapitulace stavby'!$AN$17="","",'Rekapitulace stavby'!$AN$17)
D23: Poznámka:
D27: Cena bez DPH | J27: =ROUND($J$85,2) -> 0
F29: Základ daně | I29: Sazba daně | J29: Výše daně
D30: DPH | E30: základní | F30: =ROUND(SUM($BE$85:$BE$262),2) -> 0 | I30: 0.21 | J30: =ROUND(SUM($BE$85:$BE$262)*$I$30,2) -> 0
E31: snížená | F31: =ROUND(SUM($BF$85:$BF$262),2) -> 0 | I31: 0.15 | J31: =ROUND(SUM($BF$85:$BF$262)*$I$31,2) -> 0
E32: zákl. přenesená | F32: =ROUND(SUM($BG$85:$BG$262),2) -> 0 | I32: 0.21 | J32: 0
E33: sníž. přenesená | F33: =ROUND(SUM($BH$85:$BH$262),2) -> 0 | I33: 0.15 | J33: 0
E34: nulová | F34: =ROUND(SUM($BI$85:$BI$262),2) -> 0 | I34: 0 | J34: 0
D36: Cena s DPH | G36: v | H36: CZK | J36: =ROUND(SUM($J$27:$J$34),2) -> 0
C42: REKAPITULACE ČLENĚNÍ SOUPISU PRACÍ
C44: Stavba:
E45: =$E$7 -> Rekonstrukce chodníků ul. Pražská
C46: Objekt:
E47: =$E$9 -> 1 - Stavební část
C49: Místo: | F49: =$F$12 -> Parduvbice, v Popkovicích podíl st. silnice I/2 | I49: Datum: | J49: =IF($J$12="","",$J$12) -> 27.04.2014
C51: Zadavatel: | F51: =$E$15 | I51: Projektant: | J51: =$E$21 -> Bc. Jan Touš
C52: Uchazeč: | F52: =IF($E$18="","",$E$18)
C54: Kód dílu - Popis | J54: Cena celkem [CZK]
C56: Náklady soupisu celkem | J56: =ROUND($J$85,2) -> 0 | AU56: -1
D57: HSV - Práce a dodávky HSV | J57: =ROUND($J$86,2) -> 0
D58: 1 - Zemní práce | J58: =ROUND($J$87,2) -> 0
D59: 18 - Zemní práce - povrchové úpravy terénu | J59: =ROUND($J$122,2) -> 0
D60: 5 - Komunikace | J60: =ROUND($J$146,2) -> 0
D61: 9 - Ostatní konstrukce a práce-bourání | J61: =ROUND($J$192,2) -> 0
D62: 997 - Přesun sutě | J62: =ROUND($J$205,2) -> 0
D63: 998 - Přesun hmot | J63: =ROUND($J$242,2) -> 0
D64: PSV - Práce a dodávky PSV | J64: =ROUND($J$245,2) -> 0
D65: 711 - Izolace proti vodě, vlhkosti a plynům | J65: =ROUND($J$246,2) -> 0
C72: SOUPIS PRACÍ
C74: Stavba:
E75: =$E$7 -> Rekonstrukce chodníků ul. Pražská
C76: Objekt:
E77: =$E$9 -> 1 - Stavební část
C79: Místo: | F79: =$F$12 -> Parduvbice, v Popkovicích podíl st. silnice I/2 | I79: Datum: | J79: =IF($J$12="","",$J$12) -> 27.04.2014
C81: Zadavatel: | F81: =$E$15 | I81: Projektant: | J81: =$E$21 -> Bc. Jan Touš
C82: Uchazeč: | F82: =IF($E$18="","",$E$18)
C84: PČ | D84: Typ | E84: Kód | F84: Popis | G84: MJ | H84: Množství | I84: J.cena [CZK] | J84: Cena celkem [CZK] | K84: Cenová soustava | M84: Poznámka | N84: DPH | O84: J. Nh [h] | P84: Nh celkem [h] | Q84: J. hmotnost [t] | R84: Hmotnost celkem [t] | S84: J. suť [t] | T84: Suť Celkem [t]
C85: Náklady soupisu celkem | J85: =$BK$85 -> 0 | P85: =$P$86+$P$245 -> 0 | R85: =$R$86+$R$245 -> 255.67657 | T85: =$T$86+$T$245 -> 519.67785 | AT85: D | AU85: -1 | BK85: =$BK$86+$BK$245 -> 0
D86: D | E86: HSV | F86: Práce a dodávky HSV | J86: =$BK$86 -> 0 | P86: =$P$87+$P$146+$P$192+$P$205+$P$242 -> 0 | R86: =$R$87+$R$146+$R$192+$R$205+$R$242 -> 255.49531 | T86: =$T$87+$T$146+$T$192+$T$205+$T$242 -> 519.67785 | AR86: 1 | AT86: D | AU86: 0 | AY86: ROZPOCET | BK86: =$BK$87+$BK$146+$BK$192+$BK$205+$BK$242 -> 0
D87: D | E87: 1 | F87: Zemní práce | J87: =$BK$87 -> 0 | P87: =$P$88+SUM($P$89:$P$122) -> 0 | R87: =$R$88+SUM($R$89:$R$122) -> 8.283 | T87: =$T$88+SUM($T$89:$T$122) -> 519.67785 | AR87: 1 | AT87: D | AU87: 1 | AY87: ROZPOCET | BK87: =$BK$88+SUM($BK$89:$BK$122) -> 0
C88: 1 | D88: K | E88: 113106123 | F88: Rozebrání dlažeb komunikací pro pěší ze zámkových dlaždic | G88: m2 | H88: 192.029 | J88: =ROUND($I$88*$H$88,2) -> 0 | K88: CS ÚRS 2014 01 | N88: základní | Q88: 0 | R88: =$Q$88*$H$88 -> 0 | S88: 0.26 | T88: =$S$88*$H$88 -> 49.92754 | AR88: 4 | AT88: K | AU88: 2 | AY88: ROZPOCET | BE88: =IF($N$88="základní",$J$88,0) -> 0 | BF88: =IF($N$88="snížená",$J$88,0) -> 0 | BG88: =IF($N$88="zákl. přenesená",$J$88,0) -> 0 | BH88: =IF($N$88="sníž. přenesená",$J$88,0) -> 0 | BI88: =IF($N$88="nulová",$J$88,0) -> 0 | BJ88: 1 | BK88: =ROUND($I$88*$H$88,2) -> 0 | BL88: 4 | BM88: -1069788637
D89: PP | F89: Rozebrání dlažeb a dílců komunikací pro pěší, vozovek a ploch s přemístěním hmot na skládku na vzdálenost do 3 m nebo s naložením na dopravní prostředek komunikací pro pěší s ložem z kameniva nebo živice a s výplní spár ze zámkové dlažby | AT89: PP | AU89: 2
D90: PSC | F90: Poznámka k souboru cen: 1. Ceny jsou určeny pro rozebrání dlažeb a dílců včetně odstranění lože. 2. Ceny nelze použít pro rozebrání dlažeb uložených do betonového lože nebo do cementové malty, které se oceňují cenami -7130, -7131, -7132, -7170, -7171, -7172, -7230, -7231 a -7232 Odstranění podkladů nebo krytů z betonu prostého; pro volbu těchto cen je rozhodující tloušťka bourané dlažby včetně lože nebo podkladu. 3. U komunikací pro pěší a u vozovek a ploch menších než 50 m2 jsou ceny určeny pro ruční rozebrání, u vozovek a ploch větších než 50 m2 pro rozebrání strojní. 4. V cenách nejsou započteny náklady na popř. nutné očištění: a) dlažebních nebo mozaikových kostek, které se oceňuje cenami souboru cen 979 07-11 Očištění vybouraných dlažebních kostek části C01 tohoto ceníku, b) betonových, kameninových nebo kamenných desek nebo dlaždic, které se oceňuje cenami souboru cen 979 0 . - . . Očištění vybouraných obrubníků, krajníků, desek nebo dílců části C01 tohoto ceníku. 5. Přemístění vybourané dlažby včetně materiálu z lože a spár na vzdálenost přes 3 m se oceňuje cenami souborů cen 997 22-1 Vodorovná doprava suti a vybouraných hmot. | AT90: PSC | AU90: 2
C91: 2 | D91: K | E91: 113107223 | F91: Odstranění podkladu pl přes 200 m2 z kameniva drceného tl 300 mm | G91: m2 | H91: 971.424 | J91: =ROUND($I$91*$H$91,2) -> 0 | K91: CS ÚRS 2014 01 | N91: základní | Q91: 0 | R91: =$Q$91*$H$91 -> 0 | S91: 0.4 | T91: =$S$91*$H$91 -> 388.5696 | AR91: 4 | AT91: K | AU91: 2 | AY91: ROZPOCET | BE91: =IF($N$91="základní",$J$91,0) -> 0 | BF91: =IF($N$91="snížená",$J$91,0) -> 0 | BG91: =IF($N$91="zákl. přenesená",$J$91,0) -> 0 | BH91: =IF($N$91="sníž. přenesená",$J$91,0) -> 0 | BI91: =IF($N$91="nulová",$J$91,0) -> 0 | BJ91: 1 | BK91: =ROUND($I$91*$H$91,2) -> 0 | BL91: 4 | BM91: 1392050185
D92: PP | F92: Odstranění podkladů nebo krytů s přemístěním hmot na skládku na vzdálenost do 20 m nebo s naložením na dopravní prostředek v ploše jednotlivě přes 200 m2 z kameniva hrubého drceného, o tl. vrstvy přes 200 do 300 mm | AT92: PP | AU92: 2
D93: PSC | F93: Poznámka k souboru cen: 1. Pro volbu cen z hlediska množství se uvažuje každá souvisle odstraňovaná plocha krytu nebo podkladu stejného druhu samostatně. Odstraňuje-li se několik vrstev vozovky najednou, jednotlivé vrstvy se oceňují každá samostatně. 2. U ploch menších než 50 m2 jsou ceny určeny pro ruční odstranění podkladu nebo krytu, u ploch větších než 50 m2 pro odstranění strojní. 3. Ceny a) –7111 až –7113, –7151 až -7153 a -7211 až -7213 lze použít i pro odstranění podkladů nebo krytů ze štěrkopísku, škváry, strusky nebo z mechanicky zpevněných zemin, b) –7121 až 7125, –7161 až -7165 a -7221 až -7225 lze použít i pro odstranění podkladů nebo krytů ze zemin stabilizovaných vápnem, c) –7130 až -7132, –7170 až -7172 a –7230 až -7232 lze použít i pro odstranění dlažeb uložených do betonového lože a dlažeb z mozaiky uložených do cementové malty nebo podkladu ze zemin stabilizovaných cementem. 4. Ceny lze použít i pro odstranění podkladů nebo krytů opatřených živičnými postřiky nebo nátěry. 5. Ceny odlišené podle tloušťky (např. do 100 mm, do 200 mm) jsou určeny vždy pro celou tloušťku jednotlivých konstrukcí. 6. V cenách nejsou započteny náklady na zarovnání styčných ploch betonových nebo živičných podkladů nebo krytů, které se oceňuje cenami souboru cen 919 73- Zarovnání styčné plochy části C 01 tohoto ceníku. Množství suti získané ze zarovnání styčných ploch podkladů nebo krytů se zvlášť nevykazuje. 7. Přemístění vybouraného materiálu na vzdálenost přes 3 m u cen –7111 až –7146 a přes 20 m u cen -7151 až –7246 se oceňuje cenami souborů cen 997 22-1 Vodorovná doprava suti. 8. Ceny -714 . , -718 . a –724 . nelze použít pro odstranění podkladu nebo krytu frézováním. | AT93: PSC | AU93: 2
D94: VV | F94: chodníky | H94: 779.395 | AT94: VV | AU94: 2 | AV94: 2 | AW94: -1 | AX94: 0 | AY94: ROZPOCET
D95: VV | F95: vjezdy | H95: 192.029 | AT95: VV | AU95: 2 | AV95: 2 | AW95: -1 | AX95: 0 | AY95: ROZPOCET
D96: VV | F96: Součet | H96: 971.424 | AT96: VV | AU96: 2 | AV96: 4 | AW96: -1 | AX96: 1 | AY96: ROZPOCET
C97: 3 | D97: K | E97: 113107241 | F97: Odstranění podkladu pl přes 200 m2 živičných tl 50 mm | G97: m2 | H97: 779.395 | J97: =ROUND($I$97*$H$97,2) -> 0 | K97: CS ÚRS 2014 01 | N97: základní | Q97: 0 | R97: =$Q$97*$H$97 -> 0 | S97: 0.098 | T97: =$S$97*$H$97 -> 76.38071 | AR97: 4 | AT97: K | AU97: 2 | AY97: ROZPOCET | BE97: =IF($N$97="základní",$J$97,0) -> 0 | BF97: =IF($N$97="snížená",$J$97,0) -> 0 | BG97: =IF($N$97="zákl. přenesená",$J$97,0) -> 0 | BH97: =IF($N$97="sníž. přenesená",$J$97,0) -> 0 | BI97: =IF($N$97="nulová",$J$97,0) -> 0 | BJ97: 1 | BK97: =ROUND($I$97*$H$97,2) -> 0 | BL97: 4 | BM97: -419531978
D98: PP | F98: Odstranění podkladů nebo krytů s přemístěním hmot na skládku na vzdálenost do 20 m nebo s naložením na dopravní prostředek v ploše jednotlivě přes 200 m2 živičných, o tl. vrstvy do 50 mm | AT98: PP | AU98: 2
D99: PSC | F99: Poznámka k souboru cen: 1. Pro volbu cen z hlediska množství se uvažuje každá souvisle odstraňovaná plocha krytu nebo podkladu stejného druhu samostatně. Odstraňuje-li se několik vrstev vozovky najednou, jednotlivé vrstvy se oceňují každá samostatně. 2. U ploch menších než 50 m2 jsou ceny určeny pro ruční odstranění podkladu nebo krytu, u ploch větších než 50 m2 pro odstranění strojní. 3. Ceny a) –7111 až –7113, –7151 až -7153 a -7211 až -7213 lze použít i pro odstranění podkladů nebo krytů ze štěrkopísku, škváry, strusky nebo z mechanicky zpevněných zemin, b) –7121 až 7125, –7161 až -7165 a -7221 až -7225 lze použít i pro odstranění podkladů nebo krytů ze zemin stabilizovaných vápnem, c) –7130 až -7132, –7170 až -7172 a –7230 až -7232 lze použít i pro odstranění dlažeb uložených do betonového lože a dlažeb z mozaiky uložených do cementové malty nebo podkladu ze zemin stabilizovaných cementem. 4. Ceny lze použít i pro odstranění podkladů nebo krytů opatřených živičnými postřiky nebo nátěry. 5. Ceny odlišené podle tloušťky (např. do 100 mm, do 200 mm) jsou určeny vždy pro celou tloušťku jednotlivých konstrukcí. 6. V cenách nejsou započteny náklady na zarovnání styčných ploch betonových nebo živičných podkladů nebo krytů, které se oceňuje cenami souboru cen 919 73- Zarovnání styčné plochy části C 01 tohoto ceníku. Množství suti získané ze zarovnání styčných ploch podkladů nebo krytů se zvlášť nevykazuje. 7. Přemístění vybouraného materiálu na vzdálenost přes 3 m u cen –7111 až –7146 a přes 20 m u cen -7151 až –7246 se oceňuje cenami souborů cen 997 22-1 Vodorovná doprava suti. 8. Ceny -714 . , -718 . a –724 . nelze použít pro odstranění podkladu nebo krytu frézováním. | AT99: PSC | AU99: 2
D100: VV | F100: chodníky úsek 1 | AT100: VV | AU100: 2 | AV100: 1 | AW100: -1 | AX100: 0 | AY100: ROZPOCET
D101: VV | F101: 11,01+11,77+9+25,62+20,2+1,43+21,71+11,43+10,01+12,37+12,71+33,17 | H101: 180.43 | AT101: VV | AU101: 2 | AV101: 2 | AW101: -1 | AX101: 0 | AY101: ROZPOCET
D102: VV | F102: chodníky úsek 2 | AT102: VV | AU102: 2 | AV102: 1 | AW102: -1 | AX102: 0 | AY102: ROZPOCET
D103: VV | F103: 22,55+20,24+18,41+4,78+16,5+25,655+10,2+22,06+40,57 | H103: 180.965 | AT103: VV | AU103: 2 | AV103: 2 | AW103: -1 | AX103: 0 | AY103: ROZPOCET
D104: VV | F104: chodníky úsek 3 | AT104: VV | AU104: 2 | AV104: 1 | AW104: -1 | AX104: 0 | AY104: ROZPOCET
D105: VV | F105: 37,66+5,42+12,82+49,15+24,4+7,05+16,03+13,6+31,65+12,42 | H105: 210.2 | AT105: VV | AU105: 2 | AV105: 2 | AW105: -1 | AX105: 0 | AY105: ROZPOCET
D106: VV | F106: chodnky úsek 4 | AT106: VV | AU106: 2 | AV106: 1 | AW106: -1 | AX106: 0 | AY106: ROZPOCET
D107: VV | F107: 4,7+59,5+87,3+56,3 | H107: 207.8 | AT107: VV | AU107: 2 | AV107: 2 | AW107: -1 | AX107: 0 | AY107: ROZPOCET
D108: VV | E108: chodníky | F108: Součet | H108: 779.395 | AT108: VV | AU108: 2 | AV108: 4 | AW108: -1 | AX108: 1 | AY108: ROZPOCET
C109: 4 | D109: K | E109: 113204111 | F109: Vytrhání obrub záhonových | G109: m | H109: 120 | J109: =ROUND($I$109*$H$109,2) -> 0 | K109: CS ÚRS 2014 01 | N109: základní | Q109: 0 | R109: =$Q$109*$H$109 -> 0 | S109: 0.04 | T109: =$S$109*$H$109 -> 4.8 | AR109: 4 | AT109: K | AU109: 2 | AY109: ROZPOCET | BE109: =IF($N$109="základní",$J$109,0) -> 0 | BF109: =IF($N$109="snížená",$J$109,0) -> 0 | BG109: =IF($N$109="zákl. přenesená",$J$109,0) -> 0 | BH109: =IF($N$109="sníž. přenesená",$J$109,0) -> 0 | BI109: =IF($N$109="nulová",$J$109,0) -> 0 | BJ109: 1 | BK109: =ROUND($I$109*$H$109,2) -> 0 | BL109: 4 | BM109: -674724510
D110: PP | F110: Vytrhání obrub s vybouráním lože, s přemístěním hmot na skládku na vzdálenost do 3 m nebo s naložením na dopravní prostředek záhonových | AT110: PP | AU110: 2
D111: PSC | F111: Poznámka k souboru cen: 1. Ceny jsou určeny: a) pro vytrhání obrub, obrubníků nebo krajníků jakéhokoliv druhu a velikosti uložených v jakémkoliv loži popř. i s opěrami a vyspárovaných jakýmkoliv materiálem, b) pro obruby z dlažebních kostek uložených v jedné řadě. 2. V cenách nejsou započteny náklady na popř. nutné očištění: a) vytrhaných obrubníků nebo krajníků, které se oceňuje cenami souboru cen 979 0 . - . . Očištění vybouraných obrubníků, krajníků, desek nebo dílců části C 01 tohoto ceníku, b) vytrhaných dlažebních kostek, které se oceňují cenami souboru cen 979 07-11 Očištění vybouraných dlažebních kostek části C 01 tohoto ceníku. 3. Vytrhání obrub ze dvou řad kostek se oceňuje jako dvojnásobné množství vytrhání obrub z jedné řady kostek. 4. Přemístění vybouraných obrub, krajníků nebo dlažebních kostek včetně materiálu z lože a spár na vzdálenost přes 3 m se oceňuje cenami souborů cen 997 22-1 Vodorovná doprava suti a vybouraných hmot. | AT111: PSC | AU111: 2
D112: VV | F112: úsek 4 meřeno v dwg | AT112: VV | AU112: 2 | AV112: 1 | AW112: -1 | AX112: 0 | AY112: ROZPOCET
D113: VV | F113: 120 | H113: 120 | AT113: VV | AU113: 2 | AV113: 2 | AW113: -1 | AX113: 1 | AY113: ROZPOCET
C114: 5 | D114: K | E114: 174201101 | F114: Zásyp jam, šachet rýh nebo kolem objektů sypaninou bez zhutnění | G114: m3 | H114: 3.6 | J114: =ROUND($I$114*$H$114,2) -> 0 | K114: CS ÚRS 2014 01 | N114: základní | Q114: 0 | R114: =$Q$114*$H$114 -> 0 | S114: 0 | T114: =$S$114*$H$114 -> 0 | AR114: 4 | AT114: K | AU114: 2 | AY114: ROZPOCET | BE114: =IF($N$114="základní",$J$114,0) -> 0 | BF114: =IF($N$114="snížená",$J$114,0) -> 0 | BG114: =IF($N$114="zákl. přenesená",$J$114,0) -> 0 | BH114: =IF($N$114="sníž. přenesená",$J$114,0) -> 0 | BI114: =IF($N$114="nulová",$J$114,0) -> 0 | BJ114: 1 | BK114: =ROUND($I$114*$H$114,2) -> 0 | BL114: 4 | BM114: -503228077
D115: PP | F115: Zásyp sypaninou z jakékoliv horniny s uložením výkopku ve vrstvách bez zhutnění jam, šachet, rýh nebo kolem objektů v těchto vykopávkách | AT115: PP | AU115: 2
D116: PSC | F116: Poznámka k souboru cen: 1. Ceny 174 10- . . jsou určeny pro zhutněné zásypy s mírou zhutnění: a) z hornin soudržných do 100 % PS, b) z hornin nesoudržných do I(d) 0,9, c) z hornin kamenitých pro jakoukoliv míru zhutnění. 2. Je-li projektem předepsáno vyšší zhutnění, podle bodu a) a b) poznámky č 1., ocení se zásyp individuálně. 3. Ceny nelze použít pro zásyp rýh pro drenážní trativody pro lesnicko-technické meliorace a zemědělské. Zásyp těchto rýh se oceňuje cenami souboru cen 174 20-3 . části A 03 Zemní práce pro objekty oborů 831 až 833. Nezhutněný zásyp odvodňovacích kanálů z betonových a železobetonových trub v polních a lučních tratích se oceňuje cenou -1101 Zásyp sypaninou rýh bez ohledu na šířku kanálu; cena obsahuje i náklady na ruční nezhutněný zásyp výšky do 200 mm nad vrchol potrubí. 4. V cenách 10-1101, 10-1103, 20-1101 a 20-1103 je započteno přemístění sypaniny ze vzdálenosti 10 m od kraje výkopu nebo zasypávaného prostoru, měřeno k těžišti skládky. 5. V ceně 10-1102 je započteno přemístění sypaniny ze vzdálenosti 15 m od hrany zasypávaného prostoru, měřeno k těžišti skládky. 6. Objem zásypu je rozdíl objemu výkopu a objemu do něho vestavěných konstrukcí nebo uložených vedení i s jejich obklady a podklady (tento objem se nazývá objemem horniny vytlačené konstrukcí). Objem potrubí do DN 180, příp. i s obalem, se od objemu zásypu neodečítá. Pro stanovení objemu zásypu se od objemu výkopu odečítá i objem obsypu potrubí oceňovaný cenami souboru cen 175 10-11 Obsyp potrubí, přichází-li v úvahu . 7. Odklizení zbylého výkopku po provedení zásypu zářezů se šikmými stěnami pro podzemní vedení nebo zásypu jam a rýh pro podzemní vedení se oceňuje, je-li objem zbylého výkopku: a) do 1 m3 na 1 m vedení a jedná se o výkopek neulehlý - cenami souboru cen 167 10-110 Nakládání výkopku nebo sypaniny a 162 . 0-1 . Vodorovné přemístění výkopku. V případě, že se jedná o výkopek ulehlý - rozpojení a naložení výkopku cenami souboru cen 122 . 0-1 . souboru cen 162 . 0-1 . Vodorovné přemístění výkopku; b) přes 1 m3 na 1 m vedení, jestliže projekt předepíše, že se zbylý výkopek bude odklízet zároveň s prováděním vykopávky, pouze přemístění výkopku cenami souboru cen 162 . 0-1 . Vodorovné přemístění výkopku. Při zmíněném objemu zbylého výkopku se neoceňuje ani naložení ani rozpojení výkopku. Jestliže se zbylý výkopek neodklízí, nýbrž rozprostírá podél výkopu a nad výkopem, platí poznámka č. 8. 8. Rozprostření zbylého výkopku podél výkopu a nad výkopem po provedení zásypů zářezů se šikmými stěnami pro podzemní vedení nebo zásypu jam a rýh pro podzemní vedení se oceňuje: a) cenou 171 20-1101 Uložení sypaniny do nezhutněných násypů, není-li projektem předepsáno zhutnění rozprostřeného zbylého výkopku, b) cenou 171 10-1111 Uložení sypaniny do násypů z hornin sypkých, je-li předepsáno zhutnění rozprostřeného zbylého výkopku, a to v objemu vypočteném podle poznámky č.6, příp. zmenšeném o objem výkopku, který byl již odklizen. 9. Míru zhutnění předepisuje projekt. | AT116: PSC | AU116: 2
D117: VV | F117: dosyp podél nové obruby, viz. vzorový příčný řez v místě napojení na zeleň | AT117: VV | AU117: 2 | AV117: 1 | AW117: -1 | AX117: 0 | AY117: ROZPOCET
D118: VV | F118: 120*0,03 | H118: 3.6 | AT118: VV | AU118: 2 | AV118: 2 | AW118: -1 | AX118: 1 | AY118: ROZPOCET
C119: 6 | D119: M | E119: 583312000 | F119: kamenivo těžené zásypový materiál | G119: t | H119: 6.48 | J119: =ROUND($I$119*$H$119,2) -> 0 | K119: CS ÚRS 2014 01 | N119: základní | Q119: 1 | R119: =$Q$119*$H$119 -> 6.48 | S119: 0 | T119: =$S$119*$H$119 -> 0 | AR119: 8 | AT119: M | AU119: 2 | AY119: ROZPOCET | BE119: =IF($N$119="základní",$J$119,0) -> 0 | BF119: =IF($N$119="snížená",$J$119,0) -> 0 | BG119: =IF($N$119="zákl. přenesená",$J$119,0) -> 0 | BH119: =IF($N$119="sníž. přenesená",$J$119,0) -> 0 | BI119: =IF($N$119="nulová",$J$119,0) -> 0 | BJ119: 1 | BK119: =ROUND($I$119*$H$119,2) -> 0 | BL119: 4 | BM119: 1790644030
D120: PP | F120: kamenivo přírodní těžené pro stavební účely PTK (drobné, hrubé, štěrkopísky) kamenivo mimo normu zásypový materiál | AT120: PP | AU120: 2
D121: VV | F121: 3,6*1,8 'Přepočtené koeficientem množství | H121: 6.48 | AT121: VV | AU121: 2 | AV121: 2 | AW121: 0 | AX121: 1 | AY121: ROZPOCET
D122: D | E122: 18 | F122: Zemní práce - povrchové úpravy terénu | J122: =$BK$122 -> 0 | P122: =SUM($P$123:$P$145) -> 0 | R122: =SUM($R$123:$R$145) -> 1.803 | T122: =SUM($T$123:$T$145) -> 0 | AR122: 1 | AT122: D | AU122: 2 | AY122: ROZPOCET | BK122: =SUM($BK$123:$BK$145) -> 0
C123: 7 | D123: K | E123: 181102302 | F123: Úprava pláně se zhutněním | G123: m2 | H123: 971.424 | J123: =ROUND($I$123*$H$123,2) -> 0 | K123: CS ÚRS 2014 01 | N123: základní | Q123: 0 | R123: =$Q$123*$H$123 -> 0 | S123: 0 | T123: =$S$123*$H$123 -> 0 | AR123: 4 | AT123: K | AU123: 3 | AY123: ROZPOCET | BE123: =IF($N$123="základní",$J$123,0) -> 0 | BF123: =IF($N$123="snížená",$J$123,0) -> 0 | BG123: =IF($N$123="zákl. přenesená",$J$123,0) -> 0 | BH123: =IF($N$123="sníž. přenesená",$J$123,0) -> 0 | BI123: =IF($N$123="nulová",$J$123,0) -> 0 | BJ123: 1 | BK123: =ROUND($I$123*$H$123,2) -> 0 | BL123: 4 | BM123: -2027013810
D124: PP | F124: Úprava pláně na stavbách dálnic v zářezech mimo skalních se zhutněním | AT124: PP | AU124: 3
D125: PSC | F125: Poznámka k souboru cen: 1. Ceny se zhutněním jsou určeny pro všechny míry zhutnění. 2. Ceny 10-2301, 10-2302, 20-2301 a 20-2305 jsou určeny pro urovnání nově zřizovaných ploch vodorovných nebo ve sklonu do 1:5 pod zpevnění ploch jakéhokoliv druhu, pod humusování, drnování a dále předepíše-li projekt urovnání pláně z jiného důvodu. 3. Cena 10-2303 je určena pro vyplnění sypaninou prohlubní zářezů v horninách 5, 6 a 7. 4. Ceny neplatí pro zhutnění podloží pod násypy; toto zhutnění se oceňuje cenou 215 90-1101 Zhutnění podloží pod násypy. 5. Ceny neplatí pro urovnání lavic (berem) šířky do 3 m přerušujících svahy, pro urovnání dna příkopů pro jakoukoliv jejich šířku; toto urovnání se oceňuje cenami souboru cen 182 . 0-11 Svahování trvalých svahů do projektovaných profilů A 01 tohoto katalogu. 6. Urovnání ploch ve sklonu přes 1:5 (svahování) se oceňuje cenou 182 20-1101 Svahování trvalých svahů do projektovaných profilů, části A 01 tohoto katalogu. 7. Vyplnění prohlubní v horninách tř. 5, 6, a 7 betonem nebo stabilizací se oceňuje cenami části A 01 Zřízení konstrukcí katalogu 822-1 Komunikace pozemní a letiště. | AT125: PSC | AU125: 3
D126: VV | F126: chodníky | H126: 779.395 | AT126: VV | AU126: 3 | AV126: 2 | AW126: -1 | AX126: 0 | AY126: ROZPOCET
D127: VV | F127: zám8 | H127: 105.959 | AT127: VV | AU127: 3 | AV127: 2 | AW127: -1 | AX127: 0 | AY127: ROZPOCET
D128: VV | F128: zám8nev | H128: 86.07 | AT128: VV | AU128: 3 | AV128: 2 | AW128: -1 | AX128: 0 | AY128: ROZPOCET
D129: VV | F129: Součet | H129: 971.424 | AT129: VV | AU129: 3 | AV129: 4 | AW129: -1 | AX129: 1 | AY129: ROZPOCET
C130: 8 | D130: K | E130: 182303111 | F130: Doplnění zeminy nebo substrátu na travnatých plochách tl 50 mm rovina v rovinně a svahu do 1:5 | G130: m2 | H130: 60 | J130: =ROUND($I$130*$H$130,2) -> 0 | K130: CS ÚRS 2014 01 | N130: základní | Q130: 0 | R130: =$Q$130*$H$130 -> 0 | S130: 0 | T130: =$S$130*$H$130 -> 0 | AR130: 4 | AT130: K | AU130: 3 | AY130: ROZPOCET | BE130: =IF($N$130="základní",$J$130,0) -> 0 | BF130: =IF($N$130="snížená",$J$130,0) -> 0 | BG130: =IF($N$130="zákl. přenesená",$J$130,0) -> 0 | BH130: =IF($N$130="sníž. přenesená",$J$130,0) -> 0 | BI130: =IF($N$130="nulová",$J$130,0) -> 0 | BJ130: 1 | BK130: =ROUND($I$130*$H$130,2) -> 0 | BL130: 4 | BM130: 1140547061
...

Sheet VON - Vedlejší a ostatní ...
D1: List obsahuje: | F1: 1) Krycí list soupisu | G1: 2) Rekapitulace | J1: 3) Soupis prací | K1: Zpět na list: | L1: Rekapitulace stavby
L2: >> skryté sloupce << | AT2: {279A0AFB-76C9-4A54-9934-7F697275337A}
AT3: 2
D4: KRYCÍ LIST SOUPISU | M4: v --- níže se nacházejí doplnkové a pomocné údaje k sestavám --- v | AT4: False
D6: Stavba:
E7: ='Rekapitulace stavby'!$K$6 -> Rekonstrukce chodníků ul. Pražská
D8: Objekt:
E9: VON - Vedlejší a ostatní rozpočtové náklady
D11: KSO: | I11: CC-CZ:
D12: Místo: | F12: Parduvbice, v Popkovicích podíl st. silnice I/2 | I12: Datum: | J12: ='Rekapitulace stavby'!$AN$8 -> 27.04.2014
D14: Zadavatel: | I14: IČ: | J14: =IF('Rekapitulace stavby'!$AN$10="","",'Rekapitulace stavby'!$AN$10)
E15: =IF('Rekapitulace stavby'!$E$11="","",'Rekapitulace stavby'!$E$11) | I15: DIČ: | J15: =IF('Rekapitulace stavby'!$AN$11="","",'Rekapitulace stavby'!$AN$11)
D17: Uchazeč: | I17: IČ: | J17: =IF('Rekapitulace stavby'!$AN$13="Vyplň údaj","",IF('Rekapitulace stavby'!$AN$13="","",'Rekapitulace stavby'!$AN$13))
E18: =IF('Rekapitulace stavby'!$E$14="Vyplň údaj","",IF('Rekapitulace stavby'!$E$14="","",'Rekapitulace stavby'!$E$14)) | I18: DIČ: | J18: =IF('Rekapitulace stavby'!$AN$14="Vyplň údaj","",IF('Rekapitulace stavby'!$AN$14="","",'Rekapitulace stavby'!$AN$14))
D20: Projektant: | I20: IČ: | J20: =IF('Rekapitulace stavby'!$AN$16="","",'Rekapitulace stavby'!$AN$16)
E21: =IF('Rekapitulace stavby'!$E$17="","",'Rekapitulace stavby'!$E$17) -> Bc. Jan Touš | I21: DIČ: | J21: =IF('Rekapitulace stavby'!$AN$17="","",'Rekapitulace stavby'!$AN$17)
D23: Poznámka:
D27: Cena bez DPH | J27: =ROUND($J$79,2) -> 0
F29: Základ daně | I29: Sazba daně | J29: Výše daně
D30: DPH | E30: základní | F30: =ROUND(SUM($BE$79:$BE$102),2) -> 0 | I30: 0.21 | J30: =ROUND(SUM($BE$79:$BE$102)*$I$30,2) -> 0
E31: snížená | F31: =ROUND(SUM($BF$79:$BF$102),2) -> 0 | I31: 0.15 | J31: =ROUND(SUM($BF$79:$BF$102)*$I$31,2) -> 0
E32: zákl. přenesená | F32: =ROUND(SUM($BG$79:$BG$102),2) -> 0 | I32: 0.21 | J32: 0
E33: sníž. přenesená | F33: =ROUND(SUM($BH$79:$BH$102),2) -> 0 | I33: 0.15 | J33: 0
E34: nulová | F34: =ROUND(SUM($BI$79:$BI$102),2) -> 0 | I34: 0 | J34: 0
D36: Cena s DPH | G36: v | H36: CZK | J36: =ROUND(SUM($J$27:$J$34),2) -> 0
C42: REKAPITULACE ČLENĚNÍ SOUPISU PRACÍ
C44: Stavba:
E45: =$E$7 -> Rekonstrukce chodníků ul. Pražská
C46: Objekt:
E47: =$E$9 -> VON - Vedlejší a ostatní rozpočtové náklady
C49: Místo: | F49: =$F$12 -> Parduvbice, v Popkovicích podíl st. silnice I/2 | I49: Datum: | J49: =IF($J$12="","",$J$12) -> 27.04.2014
C51: Zadavatel: | F51: =$E$15 | I51: Projektant: | J51: =$E$21 -> Bc. Jan Touš
C52: Uchazeč: | F52: =IF($E$18="","",$E$18)
C54: Kód dílu - Popis | J54: Cena celkem [CZK]
C56: Náklady soupisu celkem | J56: =ROUND($J$79,2) -> 0 | AU56: -1
D57: VRN - Vedlejší rozpočtové náklady | J57: =ROUND($J$80,2) -> 0
D58: VRN1 - Průzkumné, geodetické a projektové práce | J58: =ROUND($J$81,2) -> 0
D59: VRN3 - Zařízení staveniště | J59: =ROUND($J$86,2) -> 0
C66: SOUPIS PRACÍ
C68: Stavba:
E69: =$E$7 -> Rekonstrukce chodníků ul. Pražská
C70: Objekt:
E71: =$E$9 -> VON - Vedlejší a ostatní rozpočtové náklady
C73: Místo: | F73: =$F$12 -> Parduvbice, v Popkovicích podíl st. silnice I/2 | I73: Datum: | J73: =IF($J$12="","",$J$12) -> 27.04.2014
C75: Zadavatel: | F75: =$E$15 | I75: Projektant: | J75: =$E$21 -> Bc. Jan Touš
C76: Uchazeč: | F76: =IF($E$18="","",$E$18)
C78: PČ | D78: Typ | E78: Kód | F78: Popis | G78: MJ | H78: Množství | I78: J.cena [CZK] | J78: Cena celkem [CZK] | K78: Cenová soustava | M78: Poznámka | N78: DPH | O78: J. Nh [h] | P78: Nh celkem [h] | Q78: J. hmotnost [t] | R78: Hmotnost celkem [t] | S78: J. suť [t] | T78: Suť Celkem [t]
C79: Náklady soupisu celkem | J79: =$BK$79 -> 0 | P79: =$P$80 -> 0 | R79: =$R$80 -> 0 | T79: =$T$80 -> 0 | AT79: D | AU79: -1 | BK79: =$BK$80 -> 0
D80: D | E80: VRN | F80: Vedlejší rozpočtové náklady | J80: =$BK$80 -> 0 | P80: =$P$81+$P$86 -> 0 | R80: =$R$81+$R$86 -> 0 | T80: =$T$81+$T$86 -> 0 | AR80: 5 | AT80: D | AU80: 0 | AY80: ROZPOCET | BK80: =$BK$81+$BK$86 -> 0
D81: D | E81: VRN1 | F81: Průzkumné, geodetické a projektové práce | J81: =$BK$81 -> 0 | P81: =SUM($P$82:$P$85) -> 0 | R81: =SUM($R$82:$R$85) -> 0 | T81: =SUM($T$82:$T$85) -> 0 | AR81: 5 | AT81: D | AU81: 1 | AY81: ROZPOCET | BK81: =SUM($BK$82:$BK$85) -> 0
C82: 1 | D82: K | E82: 012103000 | F82: Geodetické práce před výstavbou | G82: kus | H82: 1 | J82: =ROUND($I$82*$H$82,2) -> 0 | K82: CS ÚRS 2014 01 | N82: základní | Q82: 0 | R82: =$Q$82*$H$82 -> 0 | S82: 0 | T82: =$S$82*$H$82 -> 0 | AR82: 1024 | AT82: K | AU82: 2 | AY82: ROZPOCET | BE82: =IF($N$82="základní",$J$82,0) -> 0 | BF82: =IF($N$82="snížená",$J$82,0) -> 0 | BG82: =IF($N$82="zákl. přenesená",$J$82,0) -> 0 | BH82: =IF($N$82="sníž. přenesená",$J$82,0) -> 0 | BI82: =IF($N$82="nulová",$J$82,0) -> 0 | BJ82: 1 | BK82: =ROUND($I$82*$H$82,2) -> 0 | BL82: 1024 | BM82: 1289792431
D83: PP | F83: Průzkumné, geodetické a projektové práce geodetické práce před výstavbou | AT83: PP | AU83: 2
C84: 2 | D84: K | E84: 012303000 | F84: Geodetické práce po výstavbě | G84: kus | H84: 1 | J84: =ROUND($I$84*$H$84,2) -> 0 | K84: CS ÚRS 2014 01 | N84: základní | Q84: 0 | R84: =$Q$84*$H$84 -> 0 | S84: 0 | T84: =$S$84*$H$84 -> 0 | AR84: 1024 | AT84: K | AU84: 2 | AY84: ROZPOCET | BE84: =IF($N$84="základní",$J$84,0) -> 0 | BF84: =IF($N$84="snížená",$J$84,0) -> 0 | BG84: =IF($N$84="zákl. přenesená",$J$84,0) -> 0 | BH84: =IF($N$84="sníž. přenesená",$J$84,0) -> 0 | BI84: =IF($N$84="nulová",$J$84,0) -> 0 | BJ84: 1 | BK84: =ROUND($I$84*$H$84,2) -> 0 | BL84: 1024 | BM84: -55001449
D85: PP | F85: Průzkumné, geodetické a projektové práce geodetické práce po výstavbě | AT85: PP | AU85: 2
D86: D | E86: VRN3 | F86: Zařízení staveniště | J86: =$BK$86 -> 0 | P86: =SUM($P$87:$P$102) -> 0 | R86: =SUM($R$87:$R$102) -> 0 | T86: =SUM($T$87:$T$102) -> 0 | AR86: 5 | AT86: D | AU86: 1 | AY86: ROZPOCET | BK86: =SUM($BK$87:$BK$102) -> 0
C87: 3 | D87: K | E87: 032103000 | F87: Náklady na stavební buňky | G87: den | H87: 42 | J87: =ROUND($I$87*$H$87,2) -> 0 | K87: CS ÚRS 2014 01 | N87: základní | Q87: 0 | R87: =$Q$87*$H$87 -> 0 | S87: 0 | T87: =$S$87*$H$87 -> 0 | AR87: 1024 | AT87: K | AU87: 2 | AY87: ROZPOCET | BE87: =IF($N$87="základní",$J$87,0) -> 0 | BF87: =IF($N$87="snížená",$J$87,0) -> 0 | BG87: =IF($N$87="zákl. přenesená",$J$87,0) -> 0 | BH87: =IF($N$87="sníž. přenesená",$J$87,0) -> 0 | BI87: =IF($N$87="nulová",$J$87,0) -> 0 | BJ87: 1 | BK87: =ROUND($I$87*$H$87,2) -> 0 | BL87: 1024 | BM87: -1866730469
D88: PP | F88: Zařízení staveniště vybavení staveniště náklady na stavební buňky | AT88: PP | AU88: 2
D89: VV | F89: viz. část E, ZOV předopkládaná délka realizace | AT89: VV | AU89: 2 | AV89: 1 | AW89: -1 | AX89: 0 | AY89: ROZPOCET
D90: VV | F90: 42 | H90: 42 | AT90: VV | AU90: 2 | AV90: 2 | AW90: -1 | AX90: 1 | AY90: ROZPOCET
C91: 4 | D91: K | E91: 032103001 | F91: Náklady na mobilní WC | G91: den | H91: 42 | J91: =ROUND($I$91*$H$91,2) -> 0 | N91: základní | Q91: 0 | R91: =$Q$91*$H$91 -> 0 | S91: 0 | T91: =$S$91*$H$91 -> 0 | AR91: 1024 | AT91: K | AU91: 2 | AY91: ROZPOCET | BE91: =IF($N$91="základní",$J$91,0) -> 0 | BF91: =IF($N$91="snížená",$J$91,0) -> 0 | BG91: =IF($N$91="zákl. přenesená",$J$91,0) -> 0 | BH91: =IF($N$91="sníž. přenesená",$J$91,0) -> 0 | BI91: =IF($N$91="nulová",$J$91,0) -> 0 | BJ91: 1 | BK91: =ROUND($I$91*$H$91,2) -> 0 | BL91: 1024 | BM91: 2142377840
D92: PP | F92: Zařízení staveniště vybavení staveniště náklady na stavební buňky | AT92: PP | AU92: 2
C93: 5 | D93: K | E93: 034103000 | F93: Energie pro zařízení staveniště | G93: kus | H93: 1 | J93: =ROUND($I$93*$H$93,2) -> 0 | K93: CS ÚRS 2014 01 | N93: základní | Q93: 0 | R93: =$Q$93*$H$93 -> 0 | S93: 0 | T93: =$S$93*$H$93 -> 0 | AR93: 1024 | AT93: K | AU93: 2 | AY93: ROZPOCET | BE93: =IF($N$93="základní",$J$93,0) -> 0 | BF93: =IF($N$93="snížená",$J$93,0) -> 0 | BG93: =IF($N$93="zákl. přenesená",$J$93,0) -> 0 | BH93: =IF($N$93="sníž. přenesená",$J$93,0) -> 0 | BI93: =IF($N$93="nulová",$J$93,0) -> 0 | BJ93: 1 | BK93: =ROUND($I$93*$H$93,2) -> 0 | BL93: 1024 | BM93: -1591341601
D94: PP | F94: Zařízení staveniště zabezpečení staveniště energie pro zařízení staveniště | AT94: PP | AU94: 2
C95: 6 | D95: K | E95: 034203000 | F95: Oplocení staveniště | G95: m | H95: 40 | J95: =ROUND($I$95*$H$95,2) -> 0 | K95: CS ÚRS 2014 01 | N95: základní | Q95: 0 | R95: =$Q$95*$H$95 -> 0 | S95: 0 | T95: =$S$95*$H$95 -> 0 | AR95: 1024 | AT95: K | AU95: 2 | AY95: ROZPOCET | BE95: =IF($N$95="základní",$J$95,0) -> 0 | BF95: =IF($N$95="snížená",$J$95,0) -> 0 | BG95: =IF($N$95="zákl. přenesená",$J$95,0) -> 0 | BH95: =IF($N$95="sníž. přenesená",$J$95,0) -> 0 | BI95: =IF($N$95="nulová",$J$95,0) -> 0 | BJ95: 1 | BK95: =ROUND($I$95*$H$95,2) -> 0 | BL95: 1024 | BM95: 509364367
D96: PP | F96: Zařízení staveniště zabezpečení staveniště oplocení staveniště | AT96: PP | AU96: 2
D97: VV | F97: délka stanovena předběžně | AT97: VV | AU97: 2 | AV97: 1 | AW97: -1 | AX97: 0 | AY97: ROZPOCET
D98: VV | F98: 40 | H98: 40 | AT98: VV | AU98: 2 | AV98: 2 | AW98: -1 | AX98: 1 | AY98: ROZPOCET
C99: 7 | D99: K | E99: 039103000 | F99: Rozebrání, bourání a odvoz zařízení staveniště | G99: kus | H99: 1 | J99: =ROUND($I$99*$H$99,2) -> 0 | K99: CS ÚRS 2014 01 | N99: základní | Q99: 0 | R99: =$Q$99*$H$99 -> 0 | S99: 0 | T99: =$S$99*$H$99 -> 0 | AR99: 1024 | AT99: K | AU99: 2 | AY99: ROZPOCET | BE99: =IF($N$99="základní",$J$99,0) -> 0 | BF99: =IF($N$99="snížená",$J$99,0) -> 0 | BG99: =IF($N$99="zákl. přenesená",$J$99,0) -> 0 | BH99: =IF($N$99="sníž. přenesená",$J$99,0) -> 0 | BI99: =IF($N$99="nulová",$J$99,0) -> 0 | BJ99: 1 | BK99: =ROUND($I$99*$H$99,2) -> 0 | BL99: 1024 | BM99: -1418326135
D100: PP | F100: Zařízení staveniště zrušení zařízení staveniště rozebrání, bourání a odvoz | AT100: PP | AU100: 2
C101: 8 | D101: K | E101: 039203000 | F101: Úprava terénu po zrušení zařízení staveniště | G101: kus | H101: 1 | J101: =ROUND($I$101*$H$101,2) -> 0 | K101: CS ÚRS 2014 01 | N101: základní | Q101: 0 | R101: =$Q$101*$H$101 -> 0 | S101: 0 | T101: =$S$101*$H$101 -> 0 | AR101: 1024 | AT101: K | AU101: 2 | AY101: ROZPOCET | BE101: =IF($N$101="základní",$J$101,0) -> 0 | BF101: =IF($N$101="snížená",$J$101,0) -> 0 | BG101: =IF($N$101="zákl. přenesená",$J$101,0) -> 0 | BH101: =IF($N$101="sníž. přenesená",$J$101,0) -> 0 | BI101: =IF($N$101="nulová",$J$101,0) -> 0 | BJ101: 1 | BK101: =ROUND($I$101*$H$101,2) -> 0 | BL101: 1024 | BM101: 537879902
D102: PP | F102: Zařízení staveniště zrušení zařízení staveniště úprava terénu | AT102: PP | AU102: 2

Sheet Pokyny pro vyplnění
C3: Struktura údajů, formát souboru a metodika pro zpracování
C4: Struktura
C6: Soubor je složen ze záložky Rekapitulace stavby a záložek s názvem soupisu prací pro jednotlivé objekty ve formátu XLS. Každá ze záložek přitom obsahuje
C7: ještě samostatné sestavy vymezené orámovaním a nadpisem sestavy. Všechny sestavy jsou optimalizovány i pro tisk na formát A4 na výšku.
C9: Rekapitulace stavby obsahuje sestavu Rekapitulace stavby a Rekapitulace objektů stavby a soupisů prací.
D10: V sestavě Rekapitulace stavby jsou uvedeny informace identifikující předmět veřejné zakázky na stavební práce, KSO, CC-CZ, CZ-CPV, CZ-CPA a rekapitulaci
D11: celkové nabídkové ceny uchazeče.
D13: V sestavě Rekapitulace objektů stavby a soupisů prací je uvedena rekapitulace stavebních objektů, inženýrských objektů, provozních souborů,
D14: vedlejších a ostatních nákladů a ostatních nákladů s rekapitulací nabídkové ceny za jednotlivé soupisy prací. Na základě údaje Typ je možné
D15: identifikovat, zda se jedná o objekt nebo soupis prací pro daný objekt:
E16: STA | F16: Stavební objekt pozemní
E17: ING | F17: Stavební objekt inženýrský
E18: PRO | F18: Provozní soubor
E19: VON | F19: Vedlejší a ostatní náklady
E20: OST | F20: Ostatní
E21: Soupis | F21: Soupis prací pro daný typ objektu
C23: Soupis prací pro jednotlivé objekty obsahuje sestavy Krycí list soupisu, Rekapitulace členění soupisu prací, Soupis prací. Za soupis prací může být považován
C24: i objekt stavby v případě, že neobsahuje podřízenou zakázku.
D25: Krycí list soupisu obsahuje rekapitulaci informací o předmětu veřejné zakázky ze sestavy Rekapitulace stavby, informaci o zařazení objektu do KSO,
D26: CC-CZ, CZ-CPV, CZ-CPA a rekapitulaci celkové nabídkové ceny uchazeče za aktuální soupis prací.
D28: Rekapitulace členění soupisu prací obsahuje rekapitulaci soupisu prací ve všech úrovních členění soupisu tak, jak byla tato členění použita (např.
D29: stavební díly, funkční díly, případně jiné členění) s rekapitulací nabídkové ceny.
D31: Soupis prací obsahuje položky veškerých stavebních nebo montážních prací, dodávek materiálů a služeb nezbytných pro zhotovení stavebního objektu,
D32: inženýrského objektu, provozního souboru, vedlejších a ostatních nákladů.
D33: Pro položky soupisu prací se zobrazují následující informace:
E34: PČ | G34: Pořadové číslo položky v aktuálním soupisu
E35: TYP | G35: Typ položky: K - konstrukce, M - materiál, PP - plný popis, PSC - poznámka k souboru cen, P - poznámka k položce, VV - výkaz výměr
E36: Kód | G36: Kód položky
E37: Popis | G37: Zkrácený popis položky
E38: MJ | G38: Měrná jednotka položky
E39: Množství | G39: Množství v měrné jednotce
E40: J.cena | G40: Jednotková cena položky. Zadaní může obsahovat namísto J.ceny sloupce J.materiál a J.montáž, jejichž součet definuje
G41: J.cenu položky.
E42: Cena celkem | G42: Celková cena položky daná jako součin množství a j.ceny
E43: Cenová soustava | G43: Příslušnost položky do cenové soustavy
D45: Ke každé položce soupisu prací se na samostatných řádcích může zobrazovat:
E46: Plný popis položky
E47: Poznámka k souboru cen a poznámka zadavatele
E48: Výkaz výměr
D49: Pokud je k řádku výkazu výměr evidovaný údaj ve sloupci Kód, jedná se o definovaný odkaz, na který se může odvolávat výkaz výměr z jiné položky.
C50: Metodika pro zpracování
C52: Jednotlivé sestavy jsou v souboru provázány. Editovatelné pole jsou zvýrazněny žlutým podbarvením, ostatní pole neslouží k editaci a nesmí být jakkoliv
C53: modifikovány. Hodnoty jsou ve výpočtech zaokrouhlovány na počet desetinných míst viditelných v jednotlivých polích.
C55: Uchazeč je pro podání nabídky povinen vyplnit žlutě podbarvená pole:
D56: Pole Uchazeč v sestavě Rekapitulace stavby - zde uchazeč vyplní svůj název (název subjektu)
D57: Pole IČ a DIČ v sestavě Rekapitulace stavby - zde uchazeč vyplní svoje IČ a DIČ
D58: Datum v sestavě Rekapitulace stavby - zde uchazeč vyplní datum vytvoření nabídky
D59: J.cena = jednotková cena v sestavě Soupis prací o maximálním počtu desetinných míst uvedených v poli
D60: - pokud sestavy soupisů prací obsahují pole J.cena, musí být všechna tato pole vyplněna nenulovými kladnými číslicemi
D61: Poznámka - nepovinný údaj pro položku soupisu
D63: V případě, že sestavy soupisů prací neobsahují pole J.cena, potom ve všech soupisech prací obsahují pole:
D64: - J.materiál - jednotková cena materiálu
D65: - J.montáž - jednotková cena montáže
D66: Uchazeč je v tomto případě povinen vyplnit všechna pole J.materiál a pole J.montáž nenulovými kladnými číslicemi. V případech, kdy položka
D67: neobsahuje žádný materiál je přípustné, aby pole J.materiál bylo vyplněno nulou. V případech, kdy položka neobsahuje žádnou montáž je přípustné,
D68: aby pole J.montáž bylo vyplněno nulou. Není však přípustné, aby obě pole - J.materiál, J.Montáž byly u jedné položky vyplněny nulou.
C73: Rekapitulace stavby
C74: Název | F74: Povinný | H74: Popis | I74: Typ | J74: Max. počet
C75: atributu | F75: (A/N) | J75: znaků
C77: Kód | F77: A | H77: Kód stavby | I77: String | J77: 20
C78: Stavba | F78: A | H78: Název stavby | I78: String | J78: 120
C79: Místo | F79: N | H79: Místo stavby | I79: String | J79: 50
C80: Datum | F80: A | H80: Datum vykonaného exportu | I80: Date
C81: KSO | F81: N | H81: Klasifikace stavebního objektu | I81: String | J81: 15
C82: CC-CZ | F82: N | H82: Klasifikace stavbeních děl | I82: String | J82: 15
C83: CZ-CPV | F83: N | H83: Společný slovník pro veřejné zakázky | I83: String | J83: 20
C84: CZ-CPA | F84: N | H84: Klasifikace produkce podle činností | I84: String | J84: 20
C85: Zadavatel | F85: N | H85: Zadavatel zadaní | I85: String | J85: 50
C86: IČ | F86: N | H86: IČ zadavatele zadaní | I86: String | J86: 20
C87: DIČ | F87: N | H87: DIČ zadavatele zadaní | I87: String | J87: 20
C88: Uchazeč | F88: N | H88: Uchazeč veřejné zakázky | I88: String | J88: 50
C89: Projektant | F89: N | H89: Projektant | I89: String | J89: 50
C90: Poznámka | F90: N | H90: Poznámka k zadání | I90: String | J90: 255
C91: Sazba DPH | F91: A | H91: Rekapitulace sazeb DPH u položek soupisů | I91: eGSazbaDph
C92: Základna DPH | F92: A | H92: Základna DPH určena součtem celkové ceny z položek soupisů | I92: Double
C93: Hodnota DPH | F93: A | H93: Hodnota DPH | I93: Double
C94: Cena bez DPH | F94: A | H94: Celková cena bez DPH za celou stavbu. Sčítává se ze všech listů. | I94: Double
C95: Cena s DPH | F95: A | H95: Celková cena s DPH za celou stavbu | I95: Double
C100: Rekapitulace objektů stavby a soupisů prací
C101: Název | F101: Povinný | H101: Popis | I101: Typ | J101: Max. počet
C102: atributu | F102: (A/N) | J102: znaků
C104: Kód | F104: A | H104: Přebírá se z Rekapitulace stavby | I104: String | J104: 20
C105: Stavba | F105: A | H105: Přebírá se z Rekapitulace stavby | I105: String | J105: 120
C106: Místo | F106: N | H106: Přebírá se z Rekapitulace stavby | I106: String | J106: 50
C107: Datum | F107: A | H107: Přebírá se z Rekapitulace stavby | I107: Date
C108: Zadavatel | F108: N | H108: Přebírá se z Rekapitulace stavby | I108: String | J108: 50
C109: Projektant | F109: N | H109: Přebírá se z Rekapitulace stavby | I109: String | J109: 50
C110: Uchazeč | F110: N | H110: Přebírá se z Rekapitulace stavby | I110: String | J110: 50
C111: Kód | F111: A | H111: Kód objektu | I111: String | J111: 20
C112: Objektu, Soupis prací | F112: A | H112: Název objektu | I112: String | J112: 120
C113: Cena bez DPH | F113: A | H113: Cena bez DPH za daný objekt | I113: Double
C114: Cena s DPH | F114: A | H114: Cena spolu s DPH za daný objekt | I114: Double
C115: Typ | F115: A | H115: Typ zakázky | I115: eGTypZakazky
C120: Krycí list soupisu
C121: Název | F121: Povinný | H121: Popis | I121: Typ | J121: Max. počet
C122: atributu | F122: (A/N) | J122: znaků
C124: Stavba | F124: A | H124: Přebírá se z Rekapitulace stavby | I124: String | J124: 120
C125: Objekt | F125: A | H125: Kód a název objektu | I125: String | J125: 20 + 120
C126: Soupis | F126: A | H126: Kód a název soupisu | I126: String | J126: 20 + 120
C127: KSO | F127: N | H127: Klasifikace stavebního objektu | I127: String | J127: 15
...
