Workbook

Sheet Rekapitulace stavby
A1: Export VZ | D1: List obsahuje: | K1: 1) Rekapitulace stavby | W1: 2) Rekapitulace objektů stavby a soupisů prací | BA1: 3.0 | BB1: ODOM | BT1: False | BU1: False | BV1: {09E17A17-5104-4BEA-8FA1-AAD8BB077C05}
AR2: >> skryté sloupce << | BS2: 0,01 | BT2: 21
BS3: 0,01 | BT3: 15
D4: REKAPITULACE STAVBY | AS4: v --- níže se nacházejí doplnkové a pomocné údaje k sestavám --- v | BE4: Návod na vyplnění | BS4: 0,001
D5: Kód: | K5: 4 | BE5: Měnit lze pouze buňky se žlutým podbarvením! 1) v Rekapitulaci stavby vyplňte údaje o Uchazeči (přenesou se do ostatních sestav i v jiných listech) 2) na vybraných listech vyplňte v sestavě Soupis prací ceny u položek Podrobnosti k vyplnění naleznete na poslední záložce s Pokyny pro vyplnění | BS5: 0,01
D6: Stavba: | K6: Rekonstrukce chodníků ul. Pražská | BS6: 0,1
D7: KSO: | K7: 822 25 | AK7: CC-CZ: | BS7: 1
D8: Místo: | K8: Parduvbice, v Popkovicích podíl st. silnice I/2 | AK8: Datum: | AN8: 27.04.2014 | BS8: 10
BS9: 100
D10: Zadavatel: | AK10: IČ: | BS10: 0,1
AK11: DIČ: | BS11: 0,1
BS12: 0,1
D13: Uchazeč: | AK13: IČ: | AN13: Vyplň údaj | BS13: 0,1
E14: Vyplň údaj | AK14: DIČ: | AN14: Vyplň údaj | BS14: 0,1
BS15: False
D16: Projektant: | AK16: IČ: | BS16: False
E17: Bc. Jan Touš | AK17: DIČ: | BS17: True
BS18: 0,01
D19: Poznámka: | BS19: 0,01
E20: Soupis prací je sestaven za využití položek Cenové soustavy ÚRS. Cenové a technické podmínky ÚRS, které nejsou uvedeny v soupisu prací (tzv. úvodní části katalogů) jsou neomezeně dálkově k dispozici na www.cs-urs.cz. Položky soupisu prací, které nemají ve sloupci "Cenová soustava" uveden žádný údaj, nepochází z Cenové soustavy ÚRS. Pokud jsou v soupisu prací označeny výrobky a materiály obchodním názvem, lze je zaměnit za jiné, kvalitativně a technicky obdobné. Soupis prací je zpracován v souladu s vyhl. 230/2012 Sb. | BS20: False
D23: Cena bez DPH | AK23: =ROUND($AG$51,2) -> 0
L25: Sazba daně | W25: Základ daně | AK25: Výše daně
D26: DPH | F26: základní | L26: 0.21 | W26: =ROUND($AZ$51,2) -> 0 | AK26: =ROUND($AV$51,2) -> 0
F27: snížená | L27: 0.15 | W27: =ROUND($BA$51,2) -> 0 | AK27: =ROUND($AW$51,2) -> 0
F28: zákl. přenesená | L28: 0.21 | W28: =ROUND($BB$51,2) -> 0 | AK28: 0
F29: sníž. přenesená | L29: 0.15 | W29: =ROUND($BC$51,2) -> 0 | AK29: 0
F30: nulová | L30: 0 | W30: =ROUND($BD$51,2) -> 0 | AK30: 0
D32: Cena s DPH | T32: v | X32: CZK | AK32: =ROUND(SUM($AK$23:$AK$30),2) -> 0
C39: REKAPITULACE OBJEKTŮ STAVBY A SOUPISŮ PRACÍ
C41: Kód: | L41: =$K$5 -> 4
C42: Stavba: | L42: =$K$6 -> Rekonstrukce chodníků ul. Pražská
C44: Místo: | L44: =IF($K$8="","",$K$8) -> Parduvbice, v Popkovicích podíl st. silnice I/2 | AI44: Datum: | AM44: =IF($AN$8="","",$AN$8) -> 27.04.2014
C46: Zadavatel: | L46: =IF($E$11="","",$E$11) | AI46: Projektant: | AM46: =IF($E$17="","",$E$17) -> Bc. Jan Touš | AS46: Informatívní údaje z listů zakázek
C47: Uchazeč: | L47: =IF($E$14="Vyplň údaj","",$E$14)
C49: Kód | I49: Objekt, Soupis prací | AG49: Cena bez DPH [CZK] | AN49: Cena s DPH [CZK] | AQ49: Typ | AS49: z toho Ostat. náklady [CZK] | AT49: DPH [CZK] | AU49: Normohodiny [h] | AV49: DPH základní [CZK] | AW49: DPH snížená [CZK] | AX49: DPH základní přenesená [CZK] | AY49: DPH snížená přenesená [CZK] | AZ49: Základna DPH základní | BA49: Základna DPH snížená | BB49: Základna DPH zákl. přenesená | BC49: Základna DPH sníž. přenesená | BD49: Základna DPH nulová
C51: Náklady stavby celkem | AG51: =ROUND(SUM($AG$52:$AG$53),2) -> 0 | AN51: =ROUND(SUM($AG$51,$AT$51),2) -> 0 | AS51: =ROUND(SUM($AS$52:$AS$53),2) -> 0 | AT51: =ROUND(SUM($AV$51:$AW$51),2) -> 0 | AU51: =ROUND(SUM($AU$52:$AU$53),5) -> 0 | AV51: =ROUND($AZ$51*$L$26,2) -> 0 | AW51: =ROUND($BA$51*$L$27,2) -> 0 | AX51: =ROUND($BB$51*$L$26,2) -> 0 | AY51: =ROUND($BC$51*$L$27,2) -> 0 | AZ51: =ROUND(SUM($AZ$52:$AZ$53),2) -> 0 | BA51: =ROUND(SUM($BA$52:$BA$53),2) -> 0 | BB51: =ROUND(SUM($BB$52:$BB$53),2) -> 0 | BC51: =ROUND(SUM($BC$52:$BC$53),2) -> 0 | BD51: =ROUND(SUM($BD$52:$BD$53),2) -> 0 | BS51: D | BT51: 0 | BU51: ###NOIMPORT### | BV51: IMPORT | BW51: {09E17A17-5104-4BEA-8FA1-AAD8BB077C05} | BX51: {00000000-0000-0000-0000-000000000000} | CL51: 822 25
A52: / | D52: 1 | J52: Stavební část | AG52: ='1 - Stavební část '!$J$27 -> 0 | AN52: =ROUND(SUM($AG$52,$AT$52),2) -> 0 | AQ52: STA | AS52: 0 | AT52: =ROUND(SUM($AV$52:$AW$52),2) -> 0 | AU52: ='1 - Stavební část '!$P$85 -> 0 | AV52: ='1 - Stavební část '!$J$30 -> 0 | AW52: ='1 - Stavební část '!$J$31 -> 0 | AX52: ='1 - Stavební část '!$J$32 -> 0 | AY52: ='1 - Stavební část '!$J$33 -> 0 | AZ52: ='1 - Stavební část '!$F$30 -> 0 | BA52: ='1 - Stavební část '!$F$31 -> 0 | BB52: ='1 - Stavební část '!$F$32 -> 0 | BC52: ='1 - Stavební část '!$F$33 -> 0 | BD52: ='1 - Stavební část '!$F$34 -> 0 | BT52: 1 | BV52: IMPORT | BW52: {DE8DB3F3-0A24-4A58-B2C8-2548E2834C52} | BX52: {09E17A17-5104-4BEA-8FA1-AAD8BB077C05} | CM52: 2
A53: / | D53: VON | J53: Vedlejší a ostatní rozpočtové náklady | AG53: ='VON - Vedlejší a ostatní ...'!$J$27 -> 0 | AN53: =ROUND(SUM($AG$53,$AT$53),2) -> 0 | AQ53: VON | AS53: 0 | AT53: =ROUND(SUM($AV$53:$AW$53),2) -> 0 | AU53: ='VON - Vedlejší a ostatní ...'!$P$79 -> 0 | AV53: ='VON - Vedlejší a ostatní ...'!$J$30 -> 0 | AW53: ='VON - Vedlejší a ostatní ...'!$J$31 -> 0 | AX53: ='VON - Vedlejší a ostatní ...'!$J$32 -> 0 | AY53: ='VON - Vedlejší a ostatní ...'!$J$33 -> 0 | AZ53: ='VON - Vedlejší a ostatní ...'!$F$30 -> 0 | BA53: ='VON - Vedlejší a ostatní ...'!$F$31 -> 0 | BB53: ='VON - Vedlejší a ostatní ...'!$F$32 -> 0 | BC53: ='VON - Vedlejší a ostatní ...'!$F$33 -> 0 | BD53: ='VON - Vedlejší a ostatní ...'!$F$34 -> 0 | BT53: 1 | BV53: IMPORT | BW53: {279A0AFB-76C9-4A54-9934-7F697275337A} | BX53: {09E17A17-5104-4BEA-8FA1-AAD8BB077C05} | CM53: 2

Sheet 1 - Stavební část 
D1: List obsahuje: | F1: 1) Krycí list soupisu | G1: 2) Rekapitulace | J1: 3) Soupis prací | K1: Zpět na list: | L1: Rekapitulace stavby
L2: >> skryté sloupce << | AT2: {DE8DB3F3-0A24-4A58-B2C8-2548E2834C52} | AZ2: chodníky | BB2: m2 | BC2: 779,395 | BD2: 2
AT3: 2 | AZ3: vjezdy | BB3: m2 | BC3: 192,029 | BD3: 2
D4: KRYCÍ LIST SOUPISU | M4: v --- níže se nacházejí doplnkové a pomocné údaje k sestavám --- v | AT4: False | AZ4: zám8 | BB4: m2 | BC4: 105,959 | BD4: 2
AZ5: zám8nev | BB5: m2 | BC5: 86,07 | BD5: 2
D6: Stavba:
E7: ='Rekapitulace stavby'!$K$6 -> Rekonstrukce chodníků ul. Pražská
D8: Objekt:
E9: 1 - Stavební část
D11: KSO: | I11: CC-CZ:
D12: Místo: | F12: Parduvbice, v Popkovicích podíl st. silnice I/2 | I12: Datum: | J12: ='Rekapitulace stavby'!$AN$8 -> 27.04.2014
D14: Zadavatel: | I14: IČ: | J14: =IF('Rekapitulace stavby'!$AN$10="","",'Rekapitulace stavby'!$AN$10)
E15: =IF('Rekapitulace stavby'!$E$11="","",'Rekapitulace stavby'!$E$11) | I15: DIČ: | J15: =IF('Rekapitulace stavby'!$AN$11="","",'Rekapitulace stavby'!$AN$11)
D17: Uchazeč: | I17: IČ: | J17: =IF('Rekapitulace stavby'!$AN$13="Vyplň údaj","",IF('Rekapitulace stavby'!$AN$13="","",'Rekapitulace stavby'!$AN$13))
E18: =IF('Rekapitulace stavby'!$E$14="Vyplň údaj","",IF('Rekapitulace stavby'!$E$14="","",'Rekapitulace stavby'!$E$14)) | I18: DIČ: | J18: =IF('Rekapitulace stavby'!$AN$14="Vyplň údaj","",IF('Rekapitulace stavby'!$AN$14="","",'Rekapitulace stavby'!$AN$14))
D20: Projektant: | I20: IČ: | J20: =IF('Rekapitulace stavby'!$AN$16="","",'Rekapitulace stavby'!$AN$16)
E21: =IF('Rekapitulace stavby'!$E$17="","",'Rekapitulace stavby'!$E$17) -> Bc. Jan Touš | I21: DIČ: | J21: =IF('Rekapitulace stavby'!$AN$17="","",'Rekapitulace stavby'!$AN$17)
D23: Poznámka:
D27: Cena bez DPH | J27: =ROUND($J$85,2) -> 0
F29: Základ daně | I29: Sazba daně | J29: Výše daně
D30: DPH | E30: základní | F30: =ROUND(SUM($BE$85:$BE$262),2) -> 0 | I30: 0.21 | J30: =ROUND(SUM($BE$85:$BE$262)*$I$30,2) -> 0
E31: snížená | F31: =ROUND(SUM($BF$85:$BF$262),2) -> 0 | I31: 0.15 | J31: =ROUND(SUM($BF$85:$BF$262)*$I$31,2) -> 0
E32: zákl. přenesená | F32: =ROUND(SUM($BG$85:$BG$262),2) -> 0 | I32: 0.21 | J32: 0
E33: sníž. přenesená | F33: =ROUND(SUM($BH$85:$BH$262),2) -> 0 | I33: 0.15 | J33: 0
E34: nulová | F34: =ROUND(SUM($BI$85:$BI$262),2) -> 0 | I34: 0 | J34: 0
D36: Cena s DPH | G36: v | H36: CZK | J36: =ROUND(SUM($J$27:$J$34),2) -> 0
C42: REKAPITULACE ČLENĚNÍ SOUPISU PRACÍ
C44: Stavba:
E45: =$E$7 -> Rekonstrukce chodníků ul. Pražská
C46: Objekt:
E47: =$E$9 -> 1 - Stavební část
C49: Místo: | F49: =$F$12 -> Parduvbice, v Popkovicích podíl st. silnice I/2 | I49: Datum: | J49: =IF($J$12="","",$J$12) -> 27.04.2014
C51: Zadavatel: | F51: =$E$15 | I51: Projektant: | J51: =$E$21 -> Bc. Jan Touš
C52: Uchazeč: | F52: =IF($E$18="","",$E$18)
C54: Kód dílu - Popis | J54: Cena celkem [CZK]
C56: Náklady soupisu celkem | J56: =ROUND($J$85,2) -> 0 | AU56: -1
D57: HSV - Práce a dodávky HSV | J57: =ROUND($J$86,2) -> 0
D58: 1 - Zemní práce | J58: =ROUND($J$87,2) -> 0
D59: 18 - Zemní práce - povrchové úpravy terénu | J59: =ROUND($J$122,2) -> 0
D60: 5 - Komunikace | J60: =ROUND($J$146,2) -> 0
...

Sheet VON - Vedlejší a ostatní ...
D1: List obsahuje: | F1: 1) Krycí list soupisu | G1: 2) Rekapitulace | J1: 3) Soupis prací | K1: Zpět na list: | L1: Rekapitulace stavby
L2: >> skryté sloupce << | AT2: {279A0AFB-76C9-4A54-9934-7F697275337A}
AT3: 2
D4: KRYCÍ LIST SOUPISU | M4: v --- níže se nacházejí doplnkové a pomocné údaje k sestavám --- v | AT4: False
D6: Stavba:
E7: ='Rekapitulace stavby'!$K$6 -> Rekonstrukce chodníků ul. Pražská
D8: Objekt:
E9: VON - Vedlejší a ostatní rozpočtové náklady
D11: KSO: | I11: CC-CZ:
D12: Místo: | F12: Parduvbice, v Popkovicích podíl st. silnice I/2 | I12: Datum: | J12: ='Rekapitulace stavby'!$AN$8 -> 27.04.2014
D14: Zadavatel: | I14: IČ: | J14: =IF('Rekapitulace stavby'!$AN$10="","",'Rekapitulace stavby'!$AN$10)
E15: =IF('Rekapitulace stavby'!$E$11="","",'Rekapitulace stavby'!$E$11) | I15: DIČ: | J15: =IF('Rekapitulace stavby'!$AN$11="","",'Rekapitulace stavby'!$AN$11)
D17: Uchazeč: | I17: IČ: | J17: =IF('Rekapitulace stavby'!$AN$13="Vyplň údaj","",IF('Rekapitulace stavby'!$AN$13="","",'Rekapitulace stavby'!$AN$13))
E18: =IF('Rekapitulace stavby'!$E$14="Vyplň údaj","",IF('Rekapitulace stavby'!$E$14="","",'Rekapitulace stavby'!$E$14)) | I18: DIČ: | J18: =IF('Rekapitulace stavby'!$AN$14="Vyplň údaj","",IF('Rekapitulace stavby'!$AN$14="","",'Rekapitulace stavby'!$AN$14))
D20: Projektant: | I20: IČ: | J20: =IF('Rekapitulace stavby'!$AN$16="","",'Rekapitulace stavby'!$AN$16)
E21: =IF('Rekapitulace stavby'!$E$17="","",'Rekapitulace stavby'!$E$17) -> Bc. Jan Touš | I21: DIČ: | J21: =IF('Rekapitulace stavby'!$AN$17="","",'Rekapitulace stavby'!$AN$17)
D23: Poznámka:
D27: Cena bez DPH | J27: =ROUND($J$79,2) -> 0
F29: Základ daně | I29: Sazba daně | J29: Výše daně
D30: DPH | E30: základní | F30: =ROUND(SUM($BE$79:$BE$102),2) -> 0 | I30: 0.21 | J30: =ROUND(SUM($BE$79:$BE$102)*$I$30,2) -> 0
E31: snížená | F31: =ROUND(SUM($BF$79:$BF$102),2) -> 0 | I31: 0.15 | J31: =ROUND(SUM($BF$79:$BF$102)*$I$31,2) -> 0
E32: zákl. přenesená | F32: =ROUND(SUM($BG$79:$BG$102),2) -> 0 | I32: 0.21 | J32: 0
E33: sníž. přenesená | F33: =ROUND(SUM($BH$79:$BH$102),2) -> 0 | I33: 0.15 | J33: 0
E34: nulová | F34: =ROUND(SUM($BI$79:$BI$102),2) -> 0 | I34: 0 | J34: 0
D36: Cena s DPH | G36: v | H36: CZK | J36: =ROUND(SUM($J$27:$J$34),2) -> 0
C42: REKAPITULACE ČLENĚNÍ SOUPISU PRACÍ
C44: Stavba:
E45: =$E$7 -> Rekonstrukce chodníků ul. Pražská
C46: Objekt:
E47: =$E$9 -> VON - Vedlejší a ostatní rozpočtové náklady
C49: Místo: | F49: =$F$12 -> Parduvbice, v Popkovicích podíl st. silnice I/2 | I49: Datum: | J49: =IF($J$12="","",$J$12) -> 27.04.2014
C51: Zadavatel: | F51: =$E$15 | I51: Projektant: | J51: =$E$21 -> Bc. Jan Touš
C52: Uchazeč: | F52: =IF($E$18="","",$E$18)
C54: Kód dílu - Popis | J54: Cena celkem [CZK]
C56: Náklady soupisu celkem | J56: =ROUND($J$79,2) -> 0 | AU56: -1
D57: VRN - Vedlejší rozpočtové náklady | J57: =ROUND($J$80,2) -> 0
D58: VRN1 - Průzkumné, geodetické a projektové práce | J58: =ROUND($J$81,2) -> 0
D59: VRN3 - Zařízení staveniště | J59: =ROUND($J$86,2) -> 0
C66: SOUPIS PRACÍ
C68: Stavba:
...

Sheet Pokyny pro vyplnění
C3: Struktura údajů, formát souboru a metodika pro zpracování
C4: Struktura
C6: Soubor je složen ze záložky Rekapitulace stavby a záložek s názvem soupisu prací pro jednotlivé objekty ve formátu XLS. Každá ze záložek přitom obsahuje
C7: ještě samostatné sestavy vymezené orámovaním a nadpisem sestavy. Všechny sestavy jsou optimalizovány i pro tisk na formát A4 na výšku.
C9: Rekapitulace stavby obsahuje sestavu Rekapitulace stavby a Rekapitulace objektů stavby a soupisů prací.
D10: V sestavě Rekapitulace stavby jsou uvedeny informace identifikující předmět veřejné zakázky na stavební práce, KSO, CC-CZ, CZ-CPV, CZ-CPA a rekapitulaci
D11: celkové nabídkové ceny uchazeče.
D13: V sestavě Rekapitulace objektů stavby a soupisů prací je uvedena rekapitulace stavebních objektů, inženýrských objektů, provozních souborů,
D14: vedlejších a ostatních nákladů a ostatních nákladů s rekapitulací nabídkové ceny za jednotlivé soupisy prací. Na základě údaje Typ je možné
D15: identifikovat, zda se jedná o objekt nebo soupis prací pro daný objekt:
E16: STA | F16: Stavební objekt pozemní
E17: ING | F17: Stavební objekt inženýrský
E18: PRO | F18: Provozní soubor
E19: VON | F19: Vedlejší a ostatní náklady
E20: OST | F20: Ostatní
E21: Soupis | F21: Soupis prací pro daný typ objektu
C23: Soupis prací pro jednotlivé objekty obsahuje sestavy Krycí list soupisu, Rekapitulace členění soupisu prací, Soupis prací. Za soupis prací může být považován
C24: i objekt stavby v případě, že neobsahuje podřízenou zakázku.
D25: Krycí list soupisu obsahuje rekapitulaci informací o předmětu veřejné zakázky ze sestavy Rekapitulace stavby, informaci o zařazení objektu do KSO,
D26: CC-CZ, CZ-CPV, CZ-CPA a rekapitulaci celkové nabídkové ceny uchazeče za aktuální soupis prací.
D28: Rekapitulace členění soupisu prací obsahuje rekapitulaci soupisu prací ve všech úrovních členění soupisu tak, jak byla tato členění použita (např.
D29: stavební díly, funkční díly, případně jiné členění) s rekapitulací nabídkové ceny.
D31: Soupis prací obsahuje položky veškerých stavebních nebo montážních prací, dodávek materiálů a služeb nezbytných pro zhotovení stavebního objektu,
D32: inženýrského objektu, provozního souboru, vedlejších a ostatních nákladů.
D33: Pro položky soupisu prací se zobrazují následující informace:
E34: PČ | G34: Pořadové číslo položky v aktuálním soupisu
E35: TYP | G35: Typ položky: K - konstrukce, M - materiál, PP - plný popis, PSC - poznámka k souboru cen, P - poznámka k položce, VV - výkaz výměr
E36: Kód | G36: Kód položky
E37: Popis | G37: Zkrácený popis položky
E38: MJ | G38: Měrná jednotka položky
E39: Množství | G39: Množství v měrné jednotce
E40: J.cena | G40: Jednotková cena položky. Zadaní může obsahovat namísto J.ceny sloupce J.materiál a J.montáž, jejichž součet definuje
G41: J.cenu položky.
E42: Cena celkem | G42: Celková cena položky daná jako součin množství a j.ceny
E43: Cenová soustava | G43: Příslušnost položky do cenové soustavy
D45: Ke každé položce soupisu prací se na samostatných řádcích může zobrazovat:
E46: Plný popis položky
E47: Poznámka k souboru cen a poznámka zadavatele
E48: Výkaz výměr
D49: Pokud je k řádku výkazu výměr evidovaný údaj ve sloupci Kód, jedná se o definovaný odkaz, na který se může odvolávat výkaz výměr z jiné položky.
...
